BEGIN:VCALENDAR
VERSION:2.0
PRODID:-//Kartazoon//NONSGML kigkonsult.se iCalcreator 2.41.92//
CALSCALE:GREGORIAN
METHOD:PUBLISH
UID:65386130-3364-4337-a564-313836613263
X-WR-CALNAME:iCagenda
X-WR-CALDESC:Event Management Extension for Joomla!
X-WR-RELCALID:3E26604A-50F4-4449-8B3E-E4F4932D05B5
X-WR-TIMEZONE:UTC
BEGIN:VTIMEZONE
TZID:UTC
END:VTIMEZONE
BEGIN:VEVENT
UID:35393235-3565-4561-a365-316630333464
DTSTAMP:20260421T121927Z
CATEGORIES:Kartazoon Mitglieder
CLASS:PUBLIC
DESCRIPTION;ALTREP="CID:<FFFF__=0ABBE548DFE235B58f9e8a93d@coffeebean.com>":
 Dope on plastic\nKartazoon &amp\; Plastic Toys Music präsentieren die näch
 ste Dope on Plastic Label Night! Geniesst mit uns im Club Dampf noch einma
 l die tolle Atmosphäre\, eine Soundanlage die Spass macht und sauberen Tec
 hno aus der Schweiz.\n&nbsp\;\nSpecials:\n22.00 - 22.30 happy hours - div.
  Getränke unserer Karte beinahe geschenkt\n&nbsp\;\n\nMusic-styles:\nin va
 riants of Techno\nLine-up:\nEdelstahl Live (Stahlplatten | D.O.P.) Darrien
  (Uhrwerk) Toma Hawk (Lakota Rec. | D.O.P.) Fredy S (TechnoWins)\nMarcel W
 arren (Plastic Toys Music | D.O.P. Vanja (Kartazoon)\n\n\n\n\n\n&nbsp\;\nD
 er Einlass gilt nur für Members. Jeder Gast muss mindestens eine Tagesmitg
 liedschaft (Kostenpunkt: CHF 20) beantragen! Die Location befindet sich im
  Otto Rupf-Gebäude - Eingang bei der Tiefgarage. Zu Fuss ca. 4 Minuten vom
  Bahnhof Stettbach entfernt. Reichlich Parkplätze um das Gebäude sind vorh
 anden.\n&nbsp\;\n\nMemberbeitrag = CHF 10.- / Person (siehe Statuten 2019)
 \n.............Die Mitgliederbeiträge für das Jahr 2019 bleiben unveränder
 t bei 30 CHF. Was jedoch neu hinzukommen wird\, sind zusätzliche Kosten vo
 n 10 bis 20 CHF pro Anlass\, welcher besucht werden will. Die Höhe der Tag
 esmitgliedschaft wird durch den Vorstand festgelegt. Die Kosten werden lei
 cht angepasst und belaufen sich je nach Aufwand des Anlasses zwischen 10 b
 is 30 CHF. Ziel dieser Anpassungen ist die alleinige Finanzierung einer ne
 uen Musikanlage\, Mischpult\, 2 CD-Playern sowie weiteren Anschaffungen vo
 n Lichteffekten etc.\n\n\n\n\n\n\n\n\nHier geht's zum Memberantrag
DTSTART:20190504T220000Z
DTEND:20190505T080000Z
GEO:00;0
LOCATION:Club Dampf
ORGANIZER:
SEQUENCE:1
SUMMARY:Dope on Plastic
TRANSP:OPAQUE
URL:https://www.kartazoon.ch/events/events-archiv/99-dope-on-plastic
END:VEVENT
END:VCALENDAR
