BEGIN:VCALENDAR
VERSION:2.0
PRODID:-//Kartazoon//NONSGML kigkonsult.se iCalcreator 2.41.92//
CALSCALE:GREGORIAN
METHOD:PUBLISH
UID:36336230-6130-4064-b839-366539343538
X-WR-CALNAME:iCagenda
X-WR-CALDESC:Event Management Extension for Joomla!
X-WR-RELCALID:3E26604A-50F4-4449-8B3E-E4F4932D05B5
X-WR-TIMEZONE:UTC
BEGIN:VTIMEZONE
TZID:UTC
END:VTIMEZONE
BEGIN:VEVENT
UID:63343661-6163-4363-a330-343762306665
DTSTAMP:20260421T122006Z
CATEGORIES:Kartazoon Mitglieder
CLASS:PUBLIC
DESCRIPTION;ALTREP="CID:<FFFF__=0ABBE548DFE235B58f9e8a93d@coffeebean.com>":
 Laboratory \nWir freuen uns am 26. April 2019 nochmals eine der legendären
  Laboratory bei uns im 'Dampf' durchführen zu dürfen.\nIn Kollaboration&nb
 sp\;mit F-act und Kartazoon-Gallery\n&nbsp\;\nSei dabei und geniesse mit u
 ns die voraussichtlich letzte Laboratory im Club Dampf in Dübendorf\n&nbsp
 \;\nSpecials:\n23.00 - 23.30 happy hours - div. Getränke unserer Karte bei
 nahe geschenkt\n&nbsp\;\n\nMusic-styles:\nprogressive-house / tech-house /
  techno\nLine-up:\nF-act / live (JOOF Recordings\, Bonzai Records)\nHöhnfl
 ug (LuPS Records\, Joyride Music)\nLuca Barth (Akustik Produkt) b2b Vanja 
 (Kartazoon)\n\n\n\n\n\n\n\n&nbsp\;\nDer Einlass gilt nur für Members. Jede
 r Gast muss mindestens eine Tagesmitgliedschaft (Kostenpunkt: CHF 20) bean
 tragen! Die Location befindet sich im Otto Rupf-Gebäude - Eingang bei der 
 Tiefgarage. Zu Fuss ca. 4 Minuten vom Bahnhof Stettbach entfernt. Reichlic
 h Parkplätze um das Gebäude sind vorhanden.\n&nbsp\;\n\n\nMemberbeitrag = 
 CHF 10.- / Person (siehe Statuten 2019)\n.............Die Mitgliederbeiträ
 ge für das Jahr 2019 bleiben unverändert bei 30 CHF. Was jedoch neu hinzuk
 ommen wird\, sind zusätzliche Kosten von 10 bis 20 CHF pro Anlass\, welche
 r besucht werden will. Die Höhe der Tagesmitgliedschaft wird durch den Vor
 stand festgelegt. Die Kosten werden leicht angepasst und belaufen sich je 
 nach Aufwand des Anlasses zwischen 10 bis 30 CHF. Ziel dieser Anpassungen 
 ist die alleinige Finanzierung einer neuen Musikanlage\, Mischpult\, 2 CD-
 Playern sowie weiteren Anschaffungen von Lichteffekten etc.\n\n\n\n\n\n\n
 \n\nHier geht's zum Memberantrag
DTSTART:20190426T230000Z
DTEND:20190427T060000Z
GEO:00;0
LOCATION:Club Dampf
ORGANIZER:
SEQUENCE:1
SUMMARY:Laboratory
TRANSP:OPAQUE
URL:https://www.kartazoon.ch/events/events-archiv/97-laboratory
END:VEVENT
END:VCALENDAR
