BEGIN:VCALENDAR
VERSION:2.0
PRODID:-//Kartazoon//NONSGML kigkonsult.se iCalcreator 2.41.92//
CALSCALE:GREGORIAN
METHOD:PUBLISH
UID:37393336-6536-4235-b361-363237363363
X-WR-CALNAME:iCagenda
X-WR-CALDESC:Event Management Extension for Joomla!
X-WR-RELCALID:3E26604A-50F4-4449-8B3E-E4F4932D05B5
X-WR-TIMEZONE:UTC
BEGIN:VTIMEZONE
TZID:UTC
END:VTIMEZONE
BEGIN:VEVENT
UID:35663937-3462-4639-b638-386531353631
DTSTAMP:20260421T144720Z
CATEGORIES:In Kollaboration mit ...
CLASS:PUBLIC
DESCRIPTION;ALTREP="CID:<FFFF__=0ABBE548DFE235B58f9e8a93d@coffeebean.com>":
 Laboratory No. 10\nIn Kollaboration&nbsp\;mit F-act und Kartazoon-Gallery
 \n&nbsp\;\nMusic-styles:\nProgressive House / Tech House / Techno\nLine-up
 \nSTEVEN (BE)\nOb mit seinem Podcast\, als DJ auf dem Firedance Lovemobile
  oder als DJ und Promoter eigener Veranstaltungen vermag es STEVEN nun sch
 on seit beinahe 20 Jahren immer wieder die Leute zu begeistern. Wir sind S
 tolz euch den berner DJ an der nächsten Laboratory No.10 präsentieren zu d
 ürfen. Sein Podcast „We Love Trance Music“ hat bis heute 3400 Fans gefunde
 n. Allerdings ist ständige Weiterentwicklung sein Motto. Was den umtriebig
 en berner auch dazu bewogen hat\, keine weiteren Episoden für seinen Podca
 st zu produzieren um sich mehr dem Progressiven/Deepen Sound und eigenen P
 roduktionen zu widmen. Auch gründete STEVEN mit vier Freunden das Label 4K
 langberg das sich mit den Genres Deep House\, Progressive House und Techno
  beschäftigt.\nSTEVEN wird uns am an der nächsten Laboratory No.10 souverä
 n in den Abend führen.\nhttps://soundcloud.com/steven_soundhttps://www.you
 tube.com/watch?v=Jrg6ytQHv5M&amp\;spfreload=10https://www.facebook.com/pag
 es/4klangberg/1534173173498611?fref=ts\n Knäckebröd (BE)\nNein\, wir mache
 n hier keine Werbung für ein schwedisches Roggengebäck. Knäckebröd ist kur
 z und knapp der Name unseres Headliners der nächsten Laboratory No.10. Sei
 n Lieblingsgetränk beim Auflegen ist Randensaft mit Eierlikör. Künstler wi
 e Beatrice Egli und Motörhead beeindrucken ihn und seine liebste Zeit zum 
 Auflegen ist im Winter am 27. Dezember um 2.33 Uhr. Das sind nur einige ku
 riose Details von Knäckebröd (Tiefgang Rec.\, Reitschule). Kein Wunder als
 o das Mental X auf den Soundtüftler aus Bern aufmerksam geworden ist und i
 hn prompt in seine Sendung eingeladen hat. Das ist aber noch lange nicht a
 lles was es über ihn zu erzählen gibt. Denn musikalisch bewegt sich Knäcke
 bröd auf höchstem Niveau. Knusprige Strukturen\, knackige Beats\, profunde
  Bässe und mystisch-melancholische Melodien unter einen Helm gebracht. Die
 s ist die Devise die sich Knäckebröd vom Kollektiv Tiefgang in den Kopf ge
 setzt hat. Seine vielfältigen DJ-Sets sind stets mit grosser Leidenschaft 
 und Liebe zum Detail zusammengestellt. Wir freuen uns\, euch diesen Lecker
 bissen an der zweiten Ausgabe der Laboratory No.10 präsentieren zu dürfen.
 \nhttp://tiefgang.be/artists/knaeckebroed/https://soundcloud.com/knaeckebr
 oed\n F-Act (CH)\nJetlag Digital\, Mistique Music\, Limeroads\, Baroque Re
 cords sind nur einige Labels auf denen F-Act seine Musik veröffentlicht. D
 er ursprünglich aus der Ostschweiz stammende DJ und Produzent ist schon se
 it frühester Kindheit der elektronisch erzeugten Musik verfallen\, begann 
 um 1990 aufzulegen und produzierte vier Jahre später seine ersten eigenen 
 Tracks. In Zürichs Clublandschaft massierte er mit seinen energetischen Se
 ts schon im Lotus\, six9six\, Stairs\, Loop38\, u.v.m. das Trommelfell tan
 zwütiger Nachtschwärmer. Es folgten Gastauftritte bei Radiostationen wie V
 irus\, LoRa und auch an der Mixmission beim Deutschen Radiosender Sunshine
  Live. Seit 2014 ist F-Act Host seiner eigenen Sendung auf Frisky Radio\, 
 in der er\, wie auch bei seinen Live-Sets Musik aus den Genres Tech House\
 , Techno\, Progressive House und Tracks\, die schon leicht am Trance kratz
 en\, gekonnt vermischt. Seit also gespannt was er an der Laboratory aus se
 iner „Plattenkiste“ zaubert…\nwww.f-act.chwww.facebook.com/FactProducerDJw
 ww.soundcloud.com/f-actwww.friskyradio.com/show/lost_in_thought\nDer Einla
 ss gilt nur für Members und jene Personen die eine persönliche Einladung e
 rhalten haben. Der Verein behält sich vor\, Gäste welche gegen die Hausord
 nung verstossen\, vom Anlass auszuschliessen.&nbsp\;Die Veranstaltung ist 
 für Frauen und Männer ab 18 Jahren. Die Location befindet sich im Otto Rup
 f-Gebäude - Eingang bei der Tiefgarage. Zu Fuss ca. 4 Minuten vom Bahnhof 
 Stettbach entfernt. Reichlich Parkplätze um das Gebäude vorhanden.\nDie Ve
 reinsmitglieder von Kartazoon-Gallery haben eine Eintrittsermässigung von 
 CHF 5.- beim Vorweisen der Mitgliedschaft.\nHier geht's zum&nbsp\;Memberan
 trag\nEs freuen sich Kartazoon\, Djs und Helfer auf eine ausgelassene Part
 y mit guten Leuten.&nbsp\;
DTSTART:20151017T230000Z
DTEND:20151018T060000Z
GEO:+47.395519;+8.598752
LOCATION:Club Dampf
ORGANIZER:
SEQUENCE:1
SUMMARY:2. Laboratory No.10
TRANSP:OPAQUE
URL:https://www.kartazoon.ch/events/events-archiv/9-laboratory-no-11
END:VEVENT
END:VCALENDAR
