BEGIN:VCALENDAR
VERSION:2.0
PRODID:-//Kartazoon//NONSGML kigkonsult.se iCalcreator 2.41.92//
CALSCALE:GREGORIAN
METHOD:PUBLISH
UID:64343865-6362-4766-b438-333834363234
X-WR-CALNAME:iCagenda
X-WR-CALDESC:Event Management Extension for Joomla!
X-WR-RELCALID:3E26604A-50F4-4449-8B3E-E4F4932D05B5
X-WR-TIMEZONE:UTC
BEGIN:VTIMEZONE
TZID:UTC
END:VTIMEZONE
BEGIN:VEVENT
UID:33396536-3963-4663-b363-393365323461
DTSTAMP:20260421T141015Z
CATEGORIES:Kartazoon Mitglieder
CLASS:PUBLIC
DESCRIPTION;ALTREP="CID:<FFFF__=0ABBE548DFE235B58f9e8a93d@coffeebean.com>":
 Monoceros Curuvar \n&nbsp\;\nWas soviel heisst wie Einhorn Donnerstag\n&nb
 sp\;\nDie Idee die dahinter steckt:\n\nAb jeweils 20.00 Uhr stehen die Tür
 en offen. Die Dj-Sets an diesen Abenden werden\, sofern es die Gast-DJ’s z
 ulassen\, aufgenommen und dir voraussichtlich via Soundcloud zur Verfügung
  gestellt.\n\nSpecials:\nSet-Aufnahme\n&nbsp\;\n\nMusic-styles:\nprogressi
 ve / psy\nLine-up:\nVanja meets Gregg (B-Day Bash)\n&nbsp\;\nDer Einlass g
 ilt nur für Members. Jeder Gast muss mindestens eine Tagesmitgliedschaft b
 eantragen! Die Location befindet sich im Otto Rupf-Gebäude - Eingang bei d
 er Tiefgarage. Zu Fuss ca. 4 Minuten vom Bahnhof Stettbach entfernt. Reich
 lich Parkplätze um das Gebäude sind vorhanden.\n\nHier geht's zum Memberan
 trag
DTSTART:20190207T200000Z
DTEND:20190208T020000Z
GEO:00;0
LOCATION:Club Dampf
ORGANIZER:
SEQUENCE:1
SUMMARY:Monoceros Curuvar mit Gast-Dj Gregg
TRANSP:OPAQUE
URL:https://www.kartazoon.ch/events/events-archiv/89-monoceros-curuvar
END:VEVENT
END:VCALENDAR
