BEGIN:VCALENDAR
VERSION:2.0
PRODID:-//Kartazoon//NONSGML kigkonsult.se iCalcreator 2.41.92//
CALSCALE:GREGORIAN
METHOD:PUBLISH
UID:31346465-6433-4436-a637-313063653736
X-WR-CALNAME:iCagenda
X-WR-CALDESC:Event Management Extension for Joomla!
X-WR-RELCALID:3E26604A-50F4-4449-8B3E-E4F4932D05B5
X-WR-TIMEZONE:UTC
BEGIN:VTIMEZONE
TZID:UTC
END:VTIMEZONE
BEGIN:VEVENT
UID:39633534-3765-4135-b566-396661323937
DTSTAMP:20260421T141104Z
CATEGORIES:Kartazoon Mitglieder
CLASS:PUBLIC
DESCRIPTION;ALTREP="CID:<FFFF__=0ABBE548DFE235B58f9e8a93d@coffeebean.com>":
 Monoceros Curuvar\n&nbsp\;\nWas soviel heisst wie Einhorn Donnerstag\n&nbs
 p\;\nDie Idee die dahinter steckt:\n\nAb jeweils 20.00 Uhr stehen die Türe
 n offen. Die Dj-Sets an diesen Abenden werden\, sofern es die Gast-DJ’s zu
 lassen\, aufgenommen und dir voraussichtlich via Soundcloud zur Verfügung 
 gestellt.\n\nSpecials:\nSet-Aufnahme\n&nbsp\;\n\nMusic-styles:\ntechno\nLi
 ne-up:\nVanja meets Luca Barth\n&nbsp\;\nDer Einlass gilt nur für Members.
  Jeder Gast muss mindestens eine Tagesmitgliedschaft beantragen! Die Locat
 ion befindet sich im Otto Rupf-Gebäude - Eingang bei der Tiefgarage. Zu Fu
 ss ca. 4 Minuten vom Bahnhof Stettbach entfernt. Reichlich Parkplätze um d
 as Gebäude sind vorhanden.\n\nHier geht's zum Memberantrag
DTSTART:20190110T200000Z
DTEND:20190111T020000Z
GEO:00;0
LOCATION:Club Dampf
ORGANIZER:
SEQUENCE:1
SUMMARY:Monoceros Curuvar mit Gast-Dj Luca Barth
TRANSP:OPAQUE
URL:https://www.kartazoon.ch/events/events-archiv/88-monoceros-curuvar
END:VEVENT
END:VCALENDAR
