BEGIN:VCALENDAR
VERSION:2.0
PRODID:-//Kartazoon//NONSGML kigkonsult.se iCalcreator 2.41.92//
CALSCALE:GREGORIAN
METHOD:PUBLISH
UID:61303165-3330-4230-b538-616637643862
X-WR-CALNAME:iCagenda
X-WR-CALDESC:Event Management Extension for Joomla!
X-WR-RELCALID:3E26604A-50F4-4449-8B3E-E4F4932D05B5
X-WR-TIMEZONE:UTC
BEGIN:VTIMEZONE
TZID:UTC
END:VTIMEZONE
BEGIN:VEVENT
UID:61306333-3530-4832-b335-653164386663
DTSTAMP:20260423T113742Z
CATEGORIES:Kartazoon Mitglieder
CLASS:PUBLIC
DESCRIPTION;ALTREP="CID:<FFFF__=0ABBE548DFE235B58f9e8a93d@coffeebean.com>":
 Monoceros Curuvar\n&nbsp\;\nWas soviel heisst wie Einhorn Donnerstag\n&nbs
 p\;\nDie Idee die dahinter steckt:\n\nAb jeweils 20.00 Uhr stehen die Türe
 n offen. Die Dj-Sets an diesen Abenden werden\, sofern es die Gast-DJ’s zu
 lassen\, aufgenommen und dir voraussichtlich via Soundcloud zur Verfügung 
 gestellt.\n\nSpecials:\nSet-Aufnahme\n&nbsp\;\n\nMusic-styles:\nprogressiv
 e house to progressive goa\nLine-up:\nVanja meets Upspace\n&nbsp\;\nDer Ei
 nlass gilt nur für Members. Jeder Gast muss mindestens eine Tagesmitglieds
 chaft beantragen! Die Location befindet sich im Otto Rupf-Gebäude - Eingan
 g bei der Tiefgarage. Zu Fuss ca. 4 Minuten vom Bahnhof Stettbach entfernt
 . Reichlich Parkplätze um das Gebäude sind vorhanden.\n\nHier geht's zum M
 emberantrag
DTSTART:20190117T200000Z
DTEND:20190118T020000Z
GEO:00;0
LOCATION:Club Dampf
ORGANIZER:
SEQUENCE:1
SUMMARY:Monoceros Curuvar mit Gast-Dj Upspace
TRANSP:OPAQUE
URL:https://www.kartazoon.ch/events/events-archiv/87-monoceros-curuvar
END:VEVENT
END:VCALENDAR
