BEGIN:VCALENDAR
VERSION:2.0
PRODID:-//Kartazoon//NONSGML kigkonsult.se iCalcreator 2.41.92//
CALSCALE:GREGORIAN
METHOD:PUBLISH
UID:30303232-3737-4033-b965-656666613338
X-WR-CALNAME:iCagenda
X-WR-CALDESC:Event Management Extension for Joomla!
X-WR-RELCALID:3E26604A-50F4-4449-8B3E-E4F4932D05B5
X-WR-TIMEZONE:UTC
BEGIN:VTIMEZONE
TZID:UTC
END:VTIMEZONE
BEGIN:VEVENT
UID:31373263-3838-4363-a564-636334616536
DTSTAMP:20260421T140429Z
CATEGORIES:Kartazoon Mitglieder
CLASS:PUBLIC
DESCRIPTION;ALTREP="CID:<FFFF__=0ABBE548DFE235B58f9e8a93d@coffeebean.com>":
 \nNightflight 3\n\nMusic-styles:\nprogressive / psytrance\n&nbsp\;\nLine-u
 p:\n22.00 - 24.30 Vanja\n24.30 - 02.30 Shift-play (Special guest)\n02.30 -
  04.30 Gregg\n04.00 - 07.00 Upspace\n&nbsp\;\nDer Einlass gilt nur für Mem
 bers. Jeder Gast muss mindestens eine Tagesmitgliedschaft (Kostenpunkt: CH
 F 20) beantragen! Die Location befindet sich im Otto Rupf-Gebäude - Eingan
 g bei der Tiefgarage. Zu Fuss ca. 4 Minuten vom Bahnhof Stettbach entfernt
 . Reichlich Parkplätze um das Gebäude sind vorhanden.\n&nbsp\;\nMemberbeit
 rag = CHF 10.- / Person (siehe Statuten 2019)&nbsp\;\n&nbsp\;\n...........
 ..Die Mitgliederbeiträge für das Jahr 2019 bleiben unverändert bei 30 CHF.
  Was jedoch neu hinzukommen wird\, sind zusätzliche Kosten von 10 bis 20 C
 HF pro Anlass\, welcher besucht werden will. Die Höhe der Tagesmitgliedsch
 aft wird selbstverständlich durch den Vorstand und nicht wie im Jahre 2017
  unglücklicherweise falsch formuliert wurde durch die GV festgelegt. Die K
 osten werden leicht angepasst und belaufen sich je nach Aufwand des Anlass
 es zwischen 10 bis 30 CHF. Ziel dieser Anpassungen ist die alleinige Finan
 zierung einer neuen Musikanlage\, Mischpult\, 2 CD-Playern sowie weiteren 
 Anschaffungen von Lichteffekten etc.\nHier geht's zum Memberantrag
DTSTART:20190126T220000Z
DTEND:20190127T070000Z
GEO:+47.395519;+8.598752
LOCATION:Club Dampf
ORGANIZER:
SEQUENCE:1
SUMMARY:Nightflight 3
TRANSP:OPAQUE
URL:https://www.kartazoon.ch/events/events-archiv/85-nightflight-3
END:VEVENT
END:VCALENDAR
