BEGIN:VCALENDAR
VERSION:2.0
PRODID:-//Kartazoon//NONSGML kigkonsult.se iCalcreator 2.41.92//
CALSCALE:GREGORIAN
METHOD:PUBLISH
UID:32333764-6130-4639-b262-326530653136
X-WR-CALNAME:iCagenda
X-WR-CALDESC:Event Management Extension for Joomla!
X-WR-RELCALID:3E26604A-50F4-4449-8B3E-E4F4932D05B5
X-WR-TIMEZONE:UTC
BEGIN:VTIMEZONE
TZID:UTC
END:VTIMEZONE
BEGIN:VEVENT
UID:39393234-6363-4834-b230-313639356130
DTSTAMP:20260421T122225Z
CATEGORIES:Kartazoon Mitglieder
CLASS:PUBLIC
DESCRIPTION;ALTREP="CID:<FFFF__=0ABBE548DFE235B58f9e8a93d@coffeebean.com>":
 Eat and beat\nin variants of trance / progressive\n\nDie Erste Party der n
 euen Partyreihe von Kartazoon Widmen wir ganz dem Trance &amp\; Progressiv
 e sound\nDie Idee die dahinter steckt ist jene des Zusammentreffens zu hum
 anen Zeiten noch vor dem Tanzen zu gehen um gemeinsam in einen unvergessli
 chen Abend zu Starten.\n&nbsp\;\nSpecials:\n19.00 - 21.00 Fingerfood - off
 eriert vom Verein Kartazoon-Gallery\n(Anmeldung dazu via 'Doodlelink' zwin
 gend Erforderlich\n&nbsp\;\nAuswahl:\n\n\n\n-Zigarren-Börek / Teigröllchen
 \, VEGETARISCH mit Feta-Käse und Petersilie \n\n-Sucuk / Döner Kebab\nIn e
 iner Qualität wie vor 30 Jahren\, als auch das Fleisch vom Spiess noch mit
  einem grossen Fleischermesser geschnitten wurde.\n&nbsp\;\nSei dabei bei 
 diesem kulinarischen Hochgenuss - offeriert vom Verein Kartazoon-Gallery\,
  als kleines Dankeschön für die unzähligen\, gelungenen Veranstaltungen\, 
 rund um das Partylabel Kartazoon. Auch wenn das Vereinslokal 'Dampf' wohl 
 oder übel die Tore bald schliessen muss. Das Partylabel Kartazoon-Gallery 
 wird mit einem neuen Konzept auf unbestimmte Zeit weiter bestehen bleiben.
 \n\n\n\n\n\n\n\n\n\n\n&nbsp\;\n21.00 - 22.00 happy hours - div. Getränke u
 nserer Karte beinahe geschenkt\n&nbsp\;\n\nMusic-styles:\nin variants of t
 rance / progressive\nLine-up:\n19.00 - 23.00 Bryce b2b Reactive\n23.00 - 0
 1.00 Yilmars\n01.00 - 03.00 Vanja b2b Vania\n03.00 - 05.00 Yilmars b2b Van
 ja\n05.00 - 07.00 Nonsdrome\n&nbsp\;\n(Änderungen der Spielzeiten vorbehal
 ten)\n&nbsp\;\nDer Einlass gilt nur für Members. Jeder Gast muss mindesten
 s eine Tagesmitgliedschaft (Kostenpunkt: CHF 25) beantragen! Die Location 
 befindet sich im Otto Rupf-Gebäude - Eingang bei der Tiefgarage. Zu Fuss c
 a. 4 Minuten vom Bahnhof Stettbach entfernt. Reichlich Parkplätze um das G
 ebäude sind vorhanden.\n&nbsp\;\n\n\nMemberbeitrag = CHF 10.- / Person (si
 ehe Statuten 2019)\n.............Die Mitgliederbeiträge für das Jahr 2019 
 bleiben unverändert bei 30 CHF. Was jedoch neu hinzukommen wird\, sind zus
 ätzliche Kosten von 10 bis 20 CHF pro Anlass\, welcher besucht werden will
 . Die Höhe der Tagesmitgliedschaft wird durch den Vorstand festgelegt. Die
  Kosten werden leicht angepasst und belaufen sich je nach Aufwand des Anla
 sses zwischen 10 bis 30 CHF. Ziel dieser Anpassungen ist die alleinige Fin
 anzierung einer neuen Musikanlage\, Mischpult\, 2 CD-Playern sowie weitere
 n Anschaffungen von Lichteffekten etc.\n\n\n\nHier geht's zum Memberantrag
DTSTART:20190330T190000Z
DTEND:20190331T070000Z
GEO:+47.395519;+8.598752
LOCATION:Club Dampf
ORGANIZER:
SEQUENCE:1
SUMMARY:Eat and beat
TRANSP:OPAQUE
URL:https://www.kartazoon.ch/events/events-archiv/84-eat-and-beat
END:VEVENT
END:VCALENDAR
