BEGIN:VCALENDAR
VERSION:2.0
PRODID:-//Kartazoon//NONSGML kigkonsult.se iCalcreator 2.41.92//
CALSCALE:GREGORIAN
METHOD:PUBLISH
UID:63366430-3032-4936-b436-303436363336
X-WR-CALNAME:iCagenda
X-WR-CALDESC:Event Management Extension for Joomla!
X-WR-RELCALID:3E26604A-50F4-4449-8B3E-E4F4932D05B5
X-WR-TIMEZONE:UTC
BEGIN:VTIMEZONE
TZID:UTC
END:VTIMEZONE
BEGIN:VEVENT
UID:30633230-3734-4438-b432-653664646239
DTSTAMP:20260421T141155Z
CATEGORIES:Kartazoon Mitglieder
CLASS:PUBLIC
DESCRIPTION;ALTREP="CID:<FFFF__=0ABBE548DFE235B58f9e8a93d@coffeebean.com>":
 Milleniacs E.X.E.C.U.T.E. B-day bash\n\nNach einer Pause ist E.x.e.c.u.t.e
  in diesem Jahr zurück\nAm Sonntag\, dem 30.12.2018 wird mal wieder gefeie
 rt. Dies im Rahmen des Geburtstags von Päde Execute. Das Programm wird Gro
 ssartig und genau so exklusiv! Zu diesem Event konnten wir kein geringeren
  als Mister Pussy Lounge Resident - The Darkraver verpflichten. Er wird eu
 ch im alten Jahr nochmals so richtig einheitzen\nSpecials:24.00 - 24.15 wi
 rd gemeinsam auf Pädes B-Day angestossen - offeriert vom Verein Kartazoon-
 Gallery\n\nMusic-styles:Hardcore\nFreestyle\nMillenium\nLine-up:The Darkra
 ver (NL)\nE.X.E.C.U.T.E.\nBäm Bäm\nB.B.H. \nThe 5th Floor\nChecore\n&nbsp\
 ;\nDer Einlass gilt nur für Members. Jeder Gast muss mindestens eine Tages
 mitgliedschaft (Kostenpunkt: CHF 25) beantragen! Die Location befindet sic
 h im Otto Rupf-Gebäude - Eingang bei der Tiefgarage. Zu Fuss ca. 4 Minuten
  vom Bahnhof Stettbach entfernt. Reichlich Parkplätze um das Gebäude sind 
 vorhanden.\n\nHier geht's zum Memberantrag
DTSTART:20181230T220000Z
DTEND:20181231T060000Z
GEO:+47.395519;+8.598752
LOCATION:Club Dampf
ORGANIZER:
SEQUENCE:1
SUMMARY:Milleniacs E.X.E.C.U.T.E. B-day bash
TRANSP:OPAQUE
URL:https://www.kartazoon.ch/events/events-archiv/83-Milleniacs
END:VEVENT
END:VCALENDAR
