BEGIN:VCALENDAR
VERSION:2.0
PRODID:-//Kartazoon//NONSGML kigkonsult.se iCalcreator 2.41.92//
CALSCALE:GREGORIAN
METHOD:PUBLISH
UID:62636238-3662-4335-b463-323233623232
X-WR-CALNAME:iCagenda
X-WR-CALDESC:Event Management Extension for Joomla!
X-WR-RELCALID:3E26604A-50F4-4449-8B3E-E4F4932D05B5
X-WR-TIMEZONE:UTC
BEGIN:VTIMEZONE
TZID:UTC
END:VTIMEZONE
BEGIN:VEVENT
UID:36373264-3164-4365-b165-613861326463
DTSTAMP:20260421T142125Z
CATEGORIES:Kartazoon Mitglieder
CLASS:PUBLIC
DESCRIPTION;ALTREP="CID:<FFFF__=0ABBE548DFE235B58f9e8a93d@coffeebean.com>":
 Frau B's B-Day Bash\nSupport by Team Acid Splash - This is underground Tec
 hno !!!\n&nbsp\;\nMusic-styles:\nAcid-Techno\n&nbsp\;\nLine-up:\nChris Lib
 erator // London - UK\nThe Greezer aka Guy McAffer // Live\nDr. Rock // Be
 atclub - DE\nJan B\nDJ Smay\n&nbsp\;\nDer Einlass gilt nur für Members. Je
 der Gast muss mindestens eine Tagesmitgliedschaft (Kostenpunkt: CHF 25) be
 antragen! Die Location befindet sich im Otto Rupf-Gebäude - Eingang bei de
 r Tiefgarage. Zu Fuss ca. 4 Minuten vom Bahnhof Stettbach entfernt. Reichl
 ich Parkplätze um das Gebäude sind vorhanden.\nHier geht's zum Memberantra
 g
DTSTART:20181207T220000Z
DTEND:20181208T060000Z
GEO:+47.395519;+8.598752
LOCATION:Club Dampf
ORGANIZER:
SEQUENCE:1
SUMMARY:Frau B's B-Day Bash
TRANSP:OPAQUE
URL:https://www.kartazoon.ch/events/events-archiv/81-Frau%20B%27s%20B-Day%2
 0Bash
END:VEVENT
END:VCALENDAR
