BEGIN:VCALENDAR
VERSION:2.0
PRODID:-//Kartazoon//NONSGML kigkonsult.se iCalcreator 2.41.92//
CALSCALE:GREGORIAN
METHOD:PUBLISH
UID:62306237-6438-4134-b362-396334393536
X-WR-CALNAME:iCagenda
X-WR-CALDESC:Event Management Extension for Joomla!
X-WR-RELCALID:3E26604A-50F4-4449-8B3E-E4F4932D05B5
X-WR-TIMEZONE:UTC
BEGIN:VTIMEZONE
TZID:UTC
END:VTIMEZONE
BEGIN:VEVENT
UID:63313831-6361-4361-b230-326562313535
DTSTAMP:20260421T140343Z
CATEGORIES:Kartazoon Mitglieder
CLASS:PUBLIC
DESCRIPTION;ALTREP="CID:<FFFF__=0ABBE548DFE235B58f9e8a93d@coffeebean.com>":
 Gate 44\n\nJuhuuu\, wir feiern Geburtstag! Und zwar nicht irgendeinen Gebu
 rtstag\, sondern den 44. von Bruno und Dani. Und da so eine Schnapszahl wi
 e dafür geschaffen ist eine Party zu schmeissen\, würden wir uns sehr freu
 en diese Feierei mit euch zusammen zu starten. Wir beginnen um 21.00 mit e
 inem kleinen Apero\, das leibliche Wohl soll ja schliesslich nicht zu kurz
  kommen. Das musikalische Buffet eröffnet Steven im Bereich progressive Ho
 use und gibt dann weiter an F-Act\, welcher uns mit einem Lifeset überrasc
 hen wird. Anschliessend geht die Reise ins Land des progressiven Goa Tranc
 e und Psy Trance\, wo Soul at Work\, Vanja und Gregg die Reiseleitung über
 nehmen werden.Wir freuen uns auf eine Hammerparty mit vielen strahlenden G
 esichtern.Keep the spirit alive!\nSpecials:21:00-22:00 Apero - Bei Bruno &
 amp\; Dani24.00-24.05 Shottime - 44ig Shots\, offeriert für die 44ig schne
 llsten unter euch\n\nMusic-styles:Progressive HouseProgressive Goa TranceP
 sy Trance Line-up:StevenF-Act (Live)Soul at WorkGreggVanja\n&nbsp\;\nDer E
 inlass gilt nur für Members. Jeder Gast muss mindestens eine Tagesmitglied
 schaft (Kostenpunkt: CHF 20) beantragen! Die Location befindet sich im Ott
 o Rupf-Gebäude - Eingang bei der Tiefgarage. Zu Fuss ca. 4 Minuten vom Bah
 nhof Stettbach entfernt. Reichlich Parkplätze um das Gebäude sind vorhande
 n.\n\nHier geht's zum Memberantrag
DTSTART:20181110T210000Z
DTEND:20181111T070000Z
GEO:+47.395519;+8.598752
LOCATION:Club Dampf
ORGANIZER:
SEQUENCE:1
SUMMARY:Gate 44
TRANSP:OPAQUE
URL:https://www.kartazoon.ch/events/events-archiv/80-Gate%2044
END:VEVENT
END:VCALENDAR
