BEGIN:VCALENDAR
VERSION:2.0
PRODID:-//Kartazoon//NONSGML kigkonsult.se iCalcreator 2.41.92//
CALSCALE:GREGORIAN
METHOD:PUBLISH
UID:38333064-6433-4634-a236-393537356336
X-WR-CALNAME:iCagenda
X-WR-CALDESC:Event Management Extension for Joomla!
X-WR-RELCALID:3E26604A-50F4-4449-8B3E-E4F4932D05B5
X-WR-TIMEZONE:UTC
BEGIN:VTIMEZONE
TZID:UTC
END:VTIMEZONE
BEGIN:VEVENT
UID:64386534-3632-4266-b761-353335383338
DTSTAMP:20260421T161634Z
CATEGORIES:Kartazoon Mitglieder
CLASS:PUBLIC
DESCRIPTION;ALTREP="CID:<FFFF__=0ABBE548DFE235B58f9e8a93d@coffeebean.com>":
 Kino für Hilfsprojekt (I) NTACT\n\nCharityprojekt - by Olivia Gamper und C
 ompany\n&nbsp\;\nWir schauen zusammen 'DIE STILLE REVOLUTION'. In seiner D
 okumentation fordert Regisseur Kristian Gründling den Wandel der Arbeitswe
 lt vom profitorientierten\, kapitalistischen Denken hin zu einer Unternehm
 enskultur\, deren Hauptinteresse das Wohlergehen sämtlicher Mitarbeiter\, 
 aber auch die Gesundheit von Gesellschaft und Umwelt ist.\n&nbsp\;\nDer Er
 lös aus dem Eintrittspreis (gilt auch für Members von Kartazoon) von Fr. 2
 0.00 geht an das Projekt (I)NTACT e. V.\, welches sich mit afrikanischen P
 artnerorganisationen für den Kampf gegen die weibliche Genitalverstümmelun
 g einsetzt.&nbsp\;\n&nbsp\;\nSpecials:\n\n18:30-19:30 Gemüsereis / CHF 10.
 - nur auf Voranmeldung\nDas Vereinslokal Dampf bleibt an diesem Abend rauc
 hfrei\n&nbsp\;\nDer Einlass gilt nur für angemeldete Gäste. Bitte unbeding
 t per E-Mail an oliviagamper@gmx.net mit Vor- und Nachname anmelden sowie 
 mit Angabe mit/ohne Essen\, damit wir kalkulieren können.\n&nbsp\;\nDie Lo
 cation befindet sich im Otto Rupf-Gebäude - Eingang bei der Tiefgarage. Zu
  Fuss ca. 4 Minuten vom Bahnhof Stettbach entfernt. Reichlich Parkplätze u
 m das Gebäude sind vorhanden.\n\nHier geht's zum Memberantrag
DTSTART:20181004T183000Z
DTEND:20181004T223000Z
GEO:+47.395519;+8.598752
LOCATION:Club Dampf
ORGANIZER:
SEQUENCE:1
SUMMARY:Kino für Hilfsprojekt (I) NTACT
TRANSP:OPAQUE
URL:https://www.kartazoon.ch/events/events-archiv/79-Kino%20f%C3%BCr%20Hilf
 sprojekt%20(I)%20NTACT
END:VEVENT
END:VCALENDAR
