BEGIN:VCALENDAR
VERSION:2.0
PRODID:-//Kartazoon//NONSGML kigkonsult.se iCalcreator 2.41.92//
CALSCALE:GREGORIAN
METHOD:PUBLISH
UID:64643435-3930-4534-a634-353836623033
X-WR-CALNAME:iCagenda
X-WR-CALDESC:Event Management Extension for Joomla!
X-WR-RELCALID:3E26604A-50F4-4449-8B3E-E4F4932D05B5
X-WR-TIMEZONE:UTC
BEGIN:VTIMEZONE
TZID:UTC
END:VTIMEZONE
BEGIN:VEVENT
UID:66623433-3931-4538-b232-373038646264
DTSTAMP:20260421T142126Z
CATEGORIES:Kartazoon Mitglieder
CLASS:PUBLIC
DESCRIPTION;ALTREP="CID:<FFFF__=0ABBE548DFE235B58f9e8a93d@coffeebean.com>":
 Skorpion B-day Party\n\n&nbsp\;\nSpecials:\n\n21:00-23:00 Happy hours auf 
 alle Getränke\n23:00-23:15 Kartazoon Shot für alle Skorpione\n\n&nbsp\;\nM
 usic-styles:\nTrance: Remember till Uplilfting / Progressive\n&nbsp\;\nLin
 e-up &amp\; Time table:\n21.00-23.00 Vanja meets vania (warm up)\n23.00-24
 .30 Magic Mellow B2B Tenrai \n24.30-02.00 Anyken\n02.00-03.30 Now-Here\n03
 .30-06.30 Dream (special long time 3h set)\n06.30-08.00 Vanja\nDer Einlass
  gilt nur für Members. Jeder Gast muss mindestens eine Tagesmitgliedschaft
  (Kostenpunkt: CHF 25) beantragen! Die Location befindet sich im Otto Rupf
 -Gebäude - Eingang bei der Tiefgarage. Zu Fuss ca. 4 Minuten vom Bahnhof S
 tettbach entfernt. Reichlich Parkplätze um das Gebäude sind vorhanden.\nHi
 er geht's zum Memberantrag
DTSTART:20181117T210000Z
DTEND:20181118T080000Z
GEO:+47.395519;+8.598752
LOCATION:Club Dampf
ORGANIZER:
SEQUENCE:1
SUMMARY:Skorpion B-Day Bash
TRANSP:OPAQUE
URL:https://www.kartazoon.ch/events/events-archiv/78-Skorpion%20B-Day%20Bas
 h-2
END:VEVENT
END:VCALENDAR
