BEGIN:VCALENDAR
VERSION:2.0
PRODID:-//Kartazoon//NONSGML kigkonsult.se iCalcreator 2.41.92//
CALSCALE:GREGORIAN
METHOD:PUBLISH
UID:39393061-6335-4834-a436-666230623137
X-WR-CALNAME:iCagenda
X-WR-CALDESC:Event Management Extension for Joomla!
X-WR-RELCALID:3E26604A-50F4-4449-8B3E-E4F4932D05B5
X-WR-TIMEZONE:UTC
BEGIN:VTIMEZONE
TZID:UTC
END:VTIMEZONE
BEGIN:VEVENT
UID:38636366-3735-4534-b365-323565343437
DTSTAMP:20260421T140514Z
CATEGORIES:Kartazoon Mitglieder
CLASS:PUBLIC
DESCRIPTION;ALTREP="CID:<FFFF__=0ABBE548DFE235B58f9e8a93d@coffeebean.com>":
 Dope on plastic\nKartazoon &amp\; Plastic Toys Music präsentieren die erst
 e Dope on Plastic Labelnight im Vereinslokal Dampf\, in Zürich-Stettbach. 
 Dope on Plastic ist ein Techno Sublabel von Plastic Toys Music.\n\nMusic-s
 tyles:\nin variants of Techno\n\n&nbsp\;\n\nLine-up:\nMARKOVA (CZE\, Stahl
 platten Rec.) \nTOMA HAWK (Lakota Rec.\, Dope on Plastic) \nMARCEL WARREN 
 (Plastic Toys\, Dope on Plastic) \nJONJON (JonJon Music\, Technowins) \nVa
 nja (Kartazoon)\n&nbsp\;\n\nDer Einlass gilt nur für Members. Jeder Gast m
 uss mindestens eine Tagesmitgliedschaft (Kostenpunkt: CHF 20) beantragen! 
 Die Location befindet sich im Otto Rupf-Gebäude - Eingang bei der Tiefgara
 ge. Zu Fuss ca. 4 Minuten vom Bahnhof Stettbach entfernt. Reichlich Parkpl
 ätze um das Gebäude sind vorhanden.\nHier geht's zum Memberantrag
DTSTART:20181006T220000Z
DTEND:20181007T060000Z
GEO:+47.395519;+8.598752
LOCATION:Club Dampf
ORGANIZER:
SEQUENCE:1
SUMMARY:Dope on Plastic
TRANSP:OPAQUE
URL:https://www.kartazoon.ch/events/events-archiv/77-dope-on-plastic
END:VEVENT
END:VCALENDAR
