BEGIN:VCALENDAR
VERSION:2.0
PRODID:-//Kartazoon//NONSGML kigkonsult.se iCalcreator 2.41.92//
CALSCALE:GREGORIAN
METHOD:PUBLISH
UID:62656562-6265-4565-b366-376664333333
X-WR-CALNAME:iCagenda
X-WR-CALDESC:Event Management Extension for Joomla!
X-WR-RELCALID:3E26604A-50F4-4449-8B3E-E4F4932D05B5
X-WR-TIMEZONE:UTC
BEGIN:VTIMEZONE
TZID:UTC
END:VTIMEZONE
BEGIN:VEVENT
UID:66663066-3339-4463-a537-383837383064
DTSTAMP:20260421T140606Z
CATEGORIES:Kartazoon Mitglieder
CLASS:PUBLIC
DESCRIPTION;ALTREP="CID:<FFFF__=0ABBE548DFE235B58f9e8a93d@coffeebean.com>":
 We love the new trance / VIP Edition 2\n&nbsp\;\n\nIn Zusammenarbeit mit s
 trohhalmRR\n&nbsp\;\nEs muss nicht immer Remember sein - es ist höchste Ze
 it dem zeitnahen Trance mehr Aufmerksamkeit zu widmen.\n\n&nbsp\;\n\nMusic
 -styles:\nTrance\n\n&nbsp\;\n\nLine-up:Madwave\nDave Zee\nIndian\nSimple\n
 Anyken\n&nbsp\;\n\nDer Einlass gilt nur für Members. Jeder Gast muss minde
 stens eine Tagesmitgliedschaft (Kostenpunkt: CHF 25) beantragen! Die Locat
 ion befindet sich im Otto Rupf-Gebäude - Eingang bei der Tiefgarage. Zu Fu
 ss ca. 4 Minuten vom Bahnhof Stettbach entfernt. Reichlich Parkplätze um d
 as Gebäude sind vorhanden.\nHier geht's zum Memberantrag
DTSTART:20181124T220000Z
DTEND:20181125T050000Z
GEO:+47.395519;+8.598752
LOCATION:Club Dampf
ORGANIZER:
SEQUENCE:1
SUMMARY:WLNT
TRANSP:OPAQUE
URL:https://www.kartazoon.ch/events/events-archiv/76-WLNT
END:VEVENT
END:VCALENDAR
