BEGIN:VCALENDAR
VERSION:2.0
PRODID:-//Kartazoon//NONSGML kigkonsult.se iCalcreator 2.41.92//
CALSCALE:GREGORIAN
METHOD:PUBLISH
UID:32666261-6462-4239-b363-306337633531
X-WR-CALNAME:iCagenda
X-WR-CALDESC:Event Management Extension for Joomla!
X-WR-RELCALID:3E26604A-50F4-4449-8B3E-E4F4932D05B5
X-WR-TIMEZONE:UTC
BEGIN:VTIMEZONE
TZID:UTC
END:VTIMEZONE
BEGIN:VEVENT
UID:38396163-6533-4635-a564-306135316133
DTSTAMP:20260421T161448Z
CATEGORIES:Kartazoon Mitglieder
CLASS:PUBLIC
DESCRIPTION;ALTREP="CID:<FFFF__=0ABBE548DFE235B58f9e8a93d@coffeebean.com>":
 Recall - Remember the time\n&nbsp\;\nGerne wollen wir mit euch auf 40 Jahr
 e Anyken Anstossen. \nZu diesem Anlass hat er sich ein ganz besonderes Lin
 e-up ausgedacht\, ein Line-up\, welches ihr euch keinesfalls entgehen lass
 en solltet.\n\n*** ANYKEN &amp\; SKY *** (ZH)first B2B set after 3.5 years
  !(energy\, streetparade\, motion\, synergy\, oxa\, tranceformers)https://
 www.facebook.com/search/top/?q=anykenhttps://www.facebook.com/DJ-SKY-34737
 571423/\n*** DAVE202 *** (ZH)(sirup music\, kontor rec\, mayday\, nature o
 ne\, scooter tour)https://www.facebook.com/dave202.fan/\n*** CUT A. KAOS *
 ** (ZH)(swiss dj legend\, all major raves &amp\; clubs\, special classics 
 set)https://www.facebook.com/cut.kaos\n*** INDIAN *** (SG)(streetparade li
 ve 02 CD\, futurescope 19 CD\, oxa trance 3000 CD)( owner of the 4 element
 s)https://www.facebook.com/djindian1973/\n*** NOW-HERE *** (ZH)(white wolf
 \, recharge\, rave reunion\, oxa\, stairs\, recall)https://www.facebook.co
 m/groups/69104827253/\n*** BODO KAISER *** (ZH)(tanglet audio rec)(owner o
 f the tranceformers series\, club ekwador PL\, synergy)https://www.faceboo
 k.com/bodokaisermusic/\n*** DAVE-ZEE *** (SG)(owner of WLNT series\, härte
 rei\, rave reunion\, synergy\, recall)https://www.facebook.com/davezeeoffi
 cial/\n*** REMIS &amp\; TRICE *** (ZH / SZ)(oxa\, reaktor club\, mainstrea
 m\, ice cube\, next level\, seven\, UG)https://www.facebook.com/ramon.mett
 lerhttps://www.facebook.com/DJ.Trice\n*** SOLID N.R.G (ZH)(excelsis\, reca
 ll\, stairs\, zueflucht\, ice cube)https://www.facebook.com/Solid-NRG-1393
 459970937155/\n*** TAYLOR &amp\; CLARKE *** (ZH)(castlebeatz\, streetparad
 e\, tranceformers\, mainstream)https://www.facebook.com/taylorandclarke/\n
 *** TELLUR *** (SZ)(streetparade\, hale bopp\, time channel\, ice cube)htt
 ps://www.facebook.com/tellurocker?ref=br_rs\n*** GREGG *** (ZH)(panorama d
 ance\, club dampf\, kartazoon events\, stairs)https://www.facebook.com/mar
 kus.gregor1\nSpecials:\nOriginal Recall crew: Sonja &amp\; Carmen\n&nbsp\;
 \nMusic-styles:\nRemember / Trance / Progressive\n\nDer Einlass gilt nur f
 ür Members. Jeder Gast muss mindestens eine Tagesmitgliedschaft (Kostenpun
 kt: CHF 25) beantragen! Die Location befindet sich im Otto Rupf-Gebäude - 
 Eingang bei der Tiefgarage. Zu Fuss ca. 4 Minuten vom Bahnhof Stettbach en
 tfernt. Reichlich Parkplätze um das Gebäude sind vorhanden.\nHier geht's z
 um Memberantrag\n&nbsp\;
DTSTART:20180929T220000Z
DTEND:20180930T080000Z
GEO:+47.395519;+8.598752
LOCATION:Club Dampf
ORGANIZER:
SEQUENCE:1
SUMMARY:Recall
TRANSP:OPAQUE
URL:https://www.kartazoon.ch/events/events-archiv/74-Recall
END:VEVENT
END:VCALENDAR
