BEGIN:VCALENDAR
VERSION:2.0
PRODID:-//Kartazoon//NONSGML kigkonsult.se iCalcreator 2.41.92//
CALSCALE:GREGORIAN
METHOD:PUBLISH
UID:35653431-6264-4436-a465-616339373834
X-WR-CALNAME:iCagenda
X-WR-CALDESC:Event Management Extension for Joomla!
X-WR-RELCALID:3E26604A-50F4-4449-8B3E-E4F4932D05B5
X-WR-TIMEZONE:UTC
BEGIN:VTIMEZONE
TZID:UTC
END:VTIMEZONE
BEGIN:VEVENT
UID:62666239-6564-4034-a466-306439666663
DTSTAMP:20260421T202315Z
CATEGORIES:In Kollaboration mit ...
CLASS:PUBLIC
DESCRIPTION;ALTREP="CID:<FFFF__=0ABBE548DFE235B58f9e8a93d@coffeebean.com>":
 Tech Garden - daydance / The day after Streetparade\nRooftop - Party auf d
 er Dachterasse der Bananenreiferei\nDie Macher des Partylabels Kartazoon f
 reuen sich sehr\, euch am Sonntag\, dem 12. Augsust 2018\, einen weiteren 
 daydance auf der Dachterasse der Bananenreiferei präsentieren zu können.\n
 Beginn: 14:00 UhrEnde:&nbsp\;&nbsp\;&nbsp\; 23:00 Uhr\nAchtung - folgendes
  sollte bereits im Vorfeld beachtet werden: \nJeder Gast muss mindestens e
 ine Tagesmitgliedschaft (Kostenpunkt: CHF 15) beantragen\nOhne GL / Tages 
 / Jahresmember kein Einlass möglich !!!\n&nbsp\;\nSpecials / Infos: \n&nbs
 p\;\n-Dachterrasse mit 600 m2 Aussenbereich\n-Ein reichhaltiges Früchtebuf
 fet wird in regelmässigen Abständen gratis serviert werden - (Spenden sind
  herzlich willkommen)\n&nbsp\;\nWir werden uns sehr darum Bemühen\, die Sc
 hattenplätze\, als auch die Wasserverneblungs Installationen\, im Vergleic
 h zum ersten Tech Garden\, optimaler zu Gestalten und zu Erweitern. Nicht 
 zuletzt möchten wir das ganze Spektakel noch farbenprächtiger zu Dekoriere
 n versuchen. Wer von Euch Lust und Zeit hat uns dabei zu Unterstützen und 
 seine Kreativität zum Besten geben will\, darf sich über die Email - Techg
 arden2018@gmail.com gerne bei uns melden.\n&nbsp\;\nMusic-Styles:\nDeep &a
 mp\; Tech-House\n&nbsp\;\n\nLine-Up &amp\; playtimes: \n14.00 - 16.00\ndk 
 Daniel &amp\; Kurt(Panthera / Kibag Crew)\nAitor Robles (Spain/Tenerife)\n
 16.00 - 18.00Luca Barth (Akustik Produkt) \nPedro Polido (Kibag Crew) \n18
 .00 - 20.00\nNici Faerber (Klaus\, Miteinander Musik)\n20.00 - 22.00\nTOMY
  GIPS (Flügstund)\nVANJA (Kartazoon)\n&nbsp\;\nPreisgestaltung:\n&nbsp\;\n
 CHF 05.- / Members von Kartazoon CHF 10.- / Friendslist von DJs &amp\; Hel
 fern CHF 15.- / Tagesmember von Kartazoon\n\n\nAltersbeschränkung: 18+\nHi
 er geht's zum Memberantrag von Kartazoon\n&nbsp\;
DTSTART:20180812T140000Z
DTEND:20180812T230000Z
GEO:+47.389854;+8.507383
LOCATION:Bananenreiferei
ORGANIZER:
SEQUENCE:1
SUMMARY:Tech Garden / The day after Streetparade
TRANSP:OPAQUE
URL:https://www.kartazoon.ch/events/events-archiv/73-tech-garden-the-day-af
 ter-streetparade
END:VEVENT
END:VCALENDAR
