BEGIN:VCALENDAR
VERSION:2.0
PRODID:-//Kartazoon//NONSGML kigkonsult.se iCalcreator 2.41.92//
CALSCALE:GREGORIAN
METHOD:PUBLISH
UID:38373338-6637-4861-b336-666237366537
X-WR-CALNAME:iCagenda
X-WR-CALDESC:Event Management Extension for Joomla!
X-WR-RELCALID:3E26604A-50F4-4449-8B3E-E4F4932D05B5
X-WR-TIMEZONE:UTC
BEGIN:VTIMEZONE
TZID:UTC
END:VTIMEZONE
BEGIN:VEVENT
UID:33636164-3130-4166-b461-383737663666
DTSTAMP:20260421T160746Z
CATEGORIES:Kartazoon Mitglieder
CLASS:PUBLIC
DESCRIPTION;ALTREP="CID:<FFFF__=0ABBE548DFE235B58f9e8a93d@coffeebean.com>":
 Dampfparade \nMusic from past to future\nBefore and after the Streetparade
 \n&nbsp\;\nSpecials:\n&nbsp\;\nWarm-up 12.00-15.00\nEin Tipp für alle Früh
 aufsteher. Wir starten mit einem gemeinsamen 'Gipfeli &amp\; Café / Champa
 gner Plausch'\, offeriert vom Verein Kartazoon-Gallery.\nMusikalische Unte
 rmalung - Vanja B2B Andialbundy.\n&nbsp\;\nStreetparade 15.00-22.00\n'Vere
 insausflug - Besichhtigung' der Streetparade\n&nbsp\;\nDampfparade 22.00-1
 0.00\n&nbsp\;\nMusic-styles:\n22.00-04.00 in variants of Trance\n04.00-10.
 00 Progressive\n&nbsp\;\nLine-up:\nBodo Kaiser\nAndialbundy\nVanja\nGregg
 \nUpspace\nDer Einlass gilt nur für Members. Jeder Gast muss mindestens ei
 ne Tagesmitgliedschaft (Kostenpunkt: CHF 25) beantragen! Die Location befi
 ndet sich im Otto Rupf-Gebäude - Eingang bei der Tiefgarage. Zu Fuss ca. 4
  Minuten vom Bahnhof Stettbach entfernt. Reichlich Parkplätze um das Gebäu
 de sind vorhanden.\nHier geht's zum Memberantrag
DTSTART:20180811T120000Z
DTEND:20180812T100000Z
GEO:+47.395519;+8.598752
LOCATION:Club Dampf
ORGANIZER:
SEQUENCE:1
SUMMARY:Dampfparade
TRANSP:OPAQUE
URL:https://www.kartazoon.ch/events/events-archiv/72-Dampfparade
END:VEVENT
END:VCALENDAR
