BEGIN:VCALENDAR
VERSION:2.0
PRODID:-//Kartazoon//NONSGML kigkonsult.se iCalcreator 2.41.92//
CALSCALE:GREGORIAN
METHOD:PUBLISH
UID:30376561-3265-4363-b861-356138643139
X-WR-CALNAME:iCagenda
X-WR-CALDESC:Event Management Extension for Joomla!
X-WR-RELCALID:3E26604A-50F4-4449-8B3E-E4F4932D05B5
X-WR-TIMEZONE:UTC
BEGIN:VTIMEZONE
TZID:UTC
END:VTIMEZONE
BEGIN:VEVENT
UID:38626565-3935-4534-a437-333261356635
DTSTAMP:20260421T161217Z
CATEGORIES:In Kollaboration mit ...
CLASS:PUBLIC
DESCRIPTION;ALTREP="CID:<FFFF__=0ABBE548DFE235B58f9e8a93d@coffeebean.com>":
 Nachtfalter\nWir freuen uns auf die zweite Ausgabe der Zusammenarbeit mit 
 dem frisch gegründeten Label - NACHTFALTER.\n&nbsp\;\nSpecials:\n3hours-dj
  sets\n&nbsp\;\nMusic-styles:\nTechno / Progressive \n&nbsp\;\nLine-up:\nF
 risk\nTokee\nBobby Bella\n&nbsp\;\nDer Einlass gilt nur für Members. Jeder
  Gast muss mindestens eine Tagesmitgliedschaft (Kostenpunkt: CHF 20) beant
 ragen! Die Location befindet sich im Otto Rupf-Gebäude - Eingang bei der T
 iefgarage. Zu Fuss ca. 4 Minuten vom Bahnhof Stettbach entfernt. Reichlich
  Parkplätze um das Gebäude sind vorhanden.\nHier geht's zum Memberantrag
DTSTART:20180526T220000Z
DTEND:20180527T070000Z
GEO:+47.395519;+8.598752
LOCATION:Club Dampf
ORGANIZER:
SEQUENCE:1
SUMMARY:Nachtfalter 2
TRANSP:OPAQUE
URL:https://www.kartazoon.ch/events/events-archiv/71-Nachtfalter%202
END:VEVENT
END:VCALENDAR
