BEGIN:VCALENDAR
VERSION:2.0
PRODID:-//Kartazoon//NONSGML kigkonsult.se iCalcreator 2.41.92//
CALSCALE:GREGORIAN
METHOD:PUBLISH
UID:30306363-3766-4963-a331-393366623561
X-WR-CALNAME:iCagenda
X-WR-CALDESC:Event Management Extension for Joomla!
X-WR-RELCALID:3E26604A-50F4-4449-8B3E-E4F4932D05B5
X-WR-TIMEZONE:UTC
BEGIN:VTIMEZONE
TZID:UTC
END:VTIMEZONE
BEGIN:VEVENT
UID:36323035-3865-4137-b734-646633303035
DTSTAMP:20260421T161635Z
CATEGORIES:Kartazoon Mitglieder
CLASS:PUBLIC
DESCRIPTION;ALTREP="CID:<FFFF__=0ABBE548DFE235B58f9e8a93d@coffeebean.com>":
 Simple sound and football\n&nbsp\;\nSpecials:\nWM Live Übertragung ab 21.0
 0 (Türöffnung &amp\; Barbetrieb ab 20.30)\n&nbsp\;\nMusic-styles:\nSimple 
 sound\n&nbsp\;\nLine-up:\nSimple\nArachno\nVanja\n&nbsp\;\nDer Einlass gil
 t nur für Members. Jeder Gast muss mindestens eine Tagesmitgliedschaft (Ko
 stenpunkt: CHF 20) beantragen! Die Location befindet sich im Otto Rupf-Geb
 äude - Eingang bei der Tiefgarage. Zu Fuss ca. 4 Minuten vom Bahnhof Stett
 bach entfernt. Reichlich Parkplätze um das Gebäude sind vorhanden.\nHier g
 eht's zum Memberantrag
DTSTART:20180616T203000Z
DTEND:20180617T060000Z
GEO:+47.395519;+8.598752
LOCATION:Club Dampf
ORGANIZER:
SEQUENCE:1
SUMMARY:Simple sound and football
TRANSP:OPAQUE
URL:https://www.kartazoon.ch/events/events-archiv/70-Simple%20sound%20and%2
 0football
END:VEVENT
END:VCALENDAR
