BEGIN:VCALENDAR
VERSION:2.0
PRODID:-//Kartazoon//NONSGML kigkonsult.se iCalcreator 2.41.92//
CALSCALE:GREGORIAN
METHOD:PUBLISH
UID:38373135-3430-4535-a266-353964393163
X-WR-CALNAME:iCagenda
X-WR-CALDESC:Event Management Extension for Joomla!
X-WR-RELCALID:3E26604A-50F4-4449-8B3E-E4F4932D05B5
X-WR-TIMEZONE:UTC
BEGIN:VTIMEZONE
TZID:UTC
END:VTIMEZONE
BEGIN:VEVENT
UID:32343434-6465-4237-b035-343739343932
DTSTAMP:20260423T113619Z
CATEGORIES:In Kollaboration mit ...
CLASS:PUBLIC
DESCRIPTION;ALTREP="CID:<FFFF__=0ABBE548DFE235B58f9e8a93d@coffeebean.com>":
 Laboratory No. 10\nIn Kollaboration&nbsp\;mit F-act und Kartazoon-Gallery
 \nProgressive House - Tech House - Techno\nLineUpWilli P (CH)\nVor mehr al
 s 20 Jahren begann Willi P seine Liebe zur Musik mittels Vinyl auszudrücke
 n. Zu der Zeit hatte seine Musik eine ausgeprägte psychedelische Färbung\,
  zusammengefasst genannt Psychedelic Trance! Ab dem Jahr 2003\, dann völli
 g in die Clubbing Szene eingetaucht\, wendet sich Willi P dann hauptsächli
 ch Musik aus den Genres Progressive-House\, Tech House\, Minimal und Techn
 o zu. Spielte seither in Clubs wie dem Labyrinth\, Loop38\, six9six\, Dist
 rict 4\, u.v.m und an Partys wie Flexx\, Take a Dance\, Mono.ton und Famil
 y Affair. Von letzterer Willi P auch Veranstalter ist. Auch an der Laborat
 ory könnt ihr ein kraftvolles\, grooviges Set erwarten\, dass jedem von eu
 ch seinen Schweiss abringen wird.\nwww.facebook.com/dj.willi.Pwww.soundclo
 ud.com/dj-willi-p\nJesse Jay (CH)\nSeit nun schon 15 Jahren pilotiert uns 
 Jesse Jay einmal im Monat auf Radio LoRa durch die Nacht. Sein Sendung (Ga
 laxy Space Night) ist ein fixer Programmpunkt vieler Nachtschwärmer. Doch 
 möchten wir Jesse Jay keinesfalls auf seine Radio Sendung reduzieren. Wer 
 ihn live spielen sieht/hört spürt sofort seine Leidenschaft für sein Handw
 erk.\n„Do you know the feeling of an unconditional\, passionate music trip
 \, too?”\nSeine Sets sind herzerwärmende Anekdoten sowie Pornostories zur 
 selben Zeit. Kein Wunder also spielte Jesse Jay in den legendären Clubs wi
 e dem Aera\, Labyrinth\, SpiderGalaxy\, Hermetschloo und Dachkantine. Wir 
 freuen uns sehr\, dass Jesse Jay an der Laboratory für einige Zeit das Rud
 er übernehmen wird und uns mitnimmt auf seinem Flug durch die Nacht.\nwww.
 jessejay.chwww.facebook.com/pages/DJ-Jesse-Jay/99520703334www.soundcloud.c
 om/jessejay\nF-Act (CH)\nJetlag Digital\, Mistique Music\, Limeroads\, Bar
 oque Records sind nur einige Labels auf denen F-Act seine Musik veröffentl
 icht. Der ursprünglich aus der Ostschweiz stammende DJ und Produzent ist s
 chon seit frühester Kindheit der elektronisch erzeugten Musik verfallen\, 
 begann um 1990 aufzulegen und produzierte vier Jahre später seine ersten e
 igenen Tracks. In Zürichs Clublandschaft massierte er mit seinen energetis
 chen Sets schon im Lotus\, six9six\, Stairs\, Loop38\, u.v.m. das Trommelf
 ell tanzwütiger Nachtschwärmer. Es folgten Gastauftritte bei Radiostatione
 n wie Virus\, LoRa und auch an der Mixmission beim Deutschen Radiosender S
 unshine Live. Seit 2014 ist F-Act Host seiner eigenen Sendung auf Frisky R
 adio\, in der er\, wie auch bei seinen Live-Sets Musik aus den Genres Tech
  House\, Techno\, Progressive House und Tracks\, die schon leicht am Tranc
 e kratzen\, gekonnt vermischt. Seit also gespannt was er an der Laboratory
  aus seiner „Plattenkiste“ zaubert…\nwww.f-act.chwww.facebook.com/FactProd
 ucerDJwww.soundcloud.com/f-actwww.friskyradio.com/show/lost_in_thought\nDe
 r Einlass gilt nur für Members und jene Personen die eine persönliche Einl
 adung erhalten haben. Der Verein behält sich vor\, Gäste welche gegen die 
 Hausordnung verstossen\, vom Anlass auszuschliessen.&nbsp\;Die Veranstaltu
 ng ist für Frauen und Männer ab 18 Jahren.Die Location befindet sich im Ot
 to Rupf-Gebäude - Eingang bei der Tiefgarage. Zu Fuss ca. 4 Minuten vom Ba
 hnhof Stettbach entfernt. Reichlich Parkplätze um das Gebäude vorhanden.\n
 Die Vereinsmitglieder von Kartazoon-Gallery haben eine Eintrittsermässigun
 g von CHF 5.- beim Vorweisen der Mitgliedschaft.\nHier geht's zum&nbsp\;Me
 mberantrag\nEs freuen sich Kartazoon\, Djs und Helfer auf eine ausgelassen
 e Party mit guten Leuten.&nbsp\;
DTSTART:20150912T230000Z
DTEND:20150913T060000Z
GEO:+47.395519;+8.598752
LOCATION:Club Dampf
ORGANIZER:
SEQUENCE:1
SUMMARY:1. Laboratory No.10
TRANSP:OPAQUE
URL:https://www.kartazoon.ch/events/events-archiv/7-laboratory-no-10
END:VEVENT
END:VCALENDAR
