BEGIN:VCALENDAR
VERSION:2.0
PRODID:-//Kartazoon//NONSGML kigkonsult.se iCalcreator 2.41.92//
CALSCALE:GREGORIAN
METHOD:PUBLISH
UID:30613666-3131-4765-a139-333736613562
X-WR-CALNAME:iCagenda
X-WR-CALDESC:Event Management Extension for Joomla!
X-WR-RELCALID:3E26604A-50F4-4449-8B3E-E4F4932D05B5
X-WR-TIMEZONE:UTC
BEGIN:VTIMEZONE
TZID:UTC
END:VTIMEZONE
BEGIN:VEVENT
UID:31333235-3339-4230-b431-663536353635
DTSTAMP:20260421T155438Z
CATEGORIES:In Kollaboration mit ...
CLASS:PUBLIC
DESCRIPTION;ALTREP="CID:<FFFF__=0ABBE548DFE235B58f9e8a93d@coffeebean.com>":
 Tech Garden / Privatanlass\nRooftop - Party auf der Dachterasse der Banane
 nreiferei\nBeginn: 07:00 UhrEnde:&nbsp\;&nbsp\;&nbsp\; 02:00 Uhr\nWir von 
 Kartazoon freuen uns sehr\, euch an diesem besonderem Sonntagstanz ein ful
 minantes und lokales Zürcher Line-Up präsentieren zu können.\nAchtung - fo
 lgendes sollte bereits im Vorfeld beachtet werden:\nWir können den Zutritt
  für den Event nur für angemeldete Gäste gewähren.\nFür Sponate gibt es le
 ider keine Möglichkeit sich den Einlass am Tag des Events zu sichern.\n&nb
 sp\;\n\nDie Memberkarte von Kartazoon gilt an diesem Tag nicht als Zutritt
 skarte.\nJeder Gast welcher die Memberkarte von Kartazoon beim Eingang vor
 weist\, erhält einen Getränkegutschein für ein Mineral\, Bier oder einen S
 hot.\n\nLimitierte Tickets: \nMöchtest du bei diesem besonderen Event mit 
 Sicherheit dabei sein\, so schreibe uns ein E-Mail mit deinem Vor-\, und N
 achname und gegebenenfalls die Namen deiner Begleitungen. Sobald wir deine
  Anmeldung erhalten haben\, wirst du weitere Informationen per Mail erhalt
 en.\nDie E-Mail für die Anmeldung lautet: techgarden2018@gmail.com\nSpecia
 ls: \n- Dachterrasse mit 600 m2 Aussenbereich- Food Corner mit hausgemacht
 en Burgern&nbsp\; von Vegi bis XXL Cheeseburger\n\n- nur für angemeldete G
 äste (Vorverkauf / Tageseintritt) &amp\; Members\n&nbsp\;\n\nWeitere Infos
 :\n-&nbsp\;600 Parkplätze direkt auf dem Dach des Gebäudes-&nbsp\;Tram Nr.
  4 ab Hardbrücke-&nbsp\;25h Hotel vis à vis\n&nbsp\;\nMusic-Styles:\nDeep 
 &amp\; Tech-House\n&nbsp\;\n\nFirst Floor / Outdoor: \n10.00 - 22.00 Uhr 
 \n&nbsp\;\nSecond Floor / Indoor: \n07.00 - 10.00 Uhr&nbsp\;\n22.00 - 02.0
 0 Uhr \nSollte unangekündigt ein Gewitter oder dergleichen aufziehen\, so 
 haben wir die Möglichkeit auf dem zweiten Floor (Indoor)\, den Event ohne 
 Unterbruch weiter zu führen.\n&nbsp\;\n\nLine-Up: \nPASCI (Friedas Büxe)\n
 ANDREAS RAMOS (Baked ZH)\nDE LA MASO (Klaus / Great stuff)\nAARON KHALEIAN
  (ManonMania / Klaus)\nENZO LO CONTE (Kibag Crew)\nCHRIS DE REBEL (Flügstu
 nd)\nWORKINPROGRESS (Kiki)\nTOMY GIPS (Flügstund)\nVANITA (Hive / Ein2)\nV
 ANJA (Kartazoon)\n\n\nAltersbeschränkung: 18+\nHier geht's zum Memberantra
 g von Kartazoon\n&nbsp\;
DTSTART:20180701T070000Z
DTEND:20180702T020000Z
GEO:+47.389854;+8.507383
LOCATION:Bananenreiferei
ORGANIZER:
SEQUENCE:1
SUMMARY:Tech Garden
TRANSP:OPAQUE
URL:https://www.kartazoon.ch/events/events-archiv/69-Tech%20Garden
END:VEVENT
END:VCALENDAR
