BEGIN:VCALENDAR
VERSION:2.0
PRODID:-//Kartazoon//NONSGML kigkonsult.se iCalcreator 2.41.92//
CALSCALE:GREGORIAN
METHOD:PUBLISH
UID:63373861-3432-4130-b362-633264383238
X-WR-CALNAME:iCagenda
X-WR-CALDESC:Event Management Extension for Joomla!
X-WR-RELCALID:3E26604A-50F4-4449-8B3E-E4F4932D05B5
X-WR-TIMEZONE:UTC
BEGIN:VTIMEZONE
TZID:UTC
END:VTIMEZONE
BEGIN:VEVENT
UID:66346164-6562-4832-a334-376166333738
DTSTAMP:20260421T160252Z
CATEGORIES:Kartazoon Mitglieder
CLASS:PUBLIC
DESCRIPTION;ALTREP="CID:<FFFF__=0ABBE548DFE235B58f9e8a93d@coffeebean.com>":
 Acid Splash \nWir von Kartazoon freuen uns auf eine erste Zusammenarbeit m
 it dem Partylabel Acid Splash - This is underground Techno !!!\n&nbsp\;\nM
 usic-styles:\nAcid-Techno\n&nbsp\;\nLine-up:\nA.P. (Cluster / Stay up fore
 ver)\nSted Hellvis (Project Mayhen / Welsh Connektion)\nJan B (Acid Splash
 )\nDj Smay (Acid Splash)\n&nbsp\;\nDer Einlass gilt nur für Members. Jeder
  Gast muss mindestens eine Tagesmitgliedschaft (Kostenpunkt: CHF 25) beant
 ragen! Die Location befindet sich im Otto Rupf-Gebäude - Eingang bei der T
 iefgarage. Zu Fuss ca. 4 Minuten vom Bahnhof Stettbach entfernt. Reichlich
  Parkplätze um das Gebäude sind vorhanden.\nHier geht's zum Memberantrag
DTSTART:20180615T220000Z
DTEND:20180616T060000Z
GEO:+47.395519;+8.598752
LOCATION:Club Dampf
ORGANIZER:
SEQUENCE:1
SUMMARY:Acid Splash
TRANSP:OPAQUE
URL:https://www.kartazoon.ch/events/events-archiv/68-Acid%20Splash
END:VEVENT
END:VCALENDAR
