BEGIN:VCALENDAR
VERSION:2.0
PRODID:-//Kartazoon//NONSGML kigkonsult.se iCalcreator 2.41.92//
CALSCALE:GREGORIAN
METHOD:PUBLISH
UID:35323263-6534-4531-b665-343262626236
X-WR-CALNAME:iCagenda
X-WR-CALDESC:Event Management Extension for Joomla!
X-WR-RELCALID:3E26604A-50F4-4449-8B3E-E4F4932D05B5
X-WR-TIMEZONE:UTC
BEGIN:VTIMEZONE
TZID:UTC
END:VTIMEZONE
BEGIN:VEVENT
UID:63323031-3864-4231-a265-326236626333
DTSTAMP:20260421T160541Z
CATEGORIES:Öffentliche Partys
CLASS:PUBLIC
DESCRIPTION;ALTREP="CID:<FFFF__=0ABBE548DFE235B58f9e8a93d@coffeebean.com>":
 SIGNUM xposed\nWir von Kartazoon freuen uns sehr euch an diesem besonderem
  Sommerabend ein Programm der extravaganz präsentieren zu können.\nAchtung
  - folgendes sollte bereits im Vorfeld beachtet werden: -Der Event findet 
 für einmal nicht im Vereinslokal Dampf statt -Die Memberkarte gilt an dies
 em Abend nur in Verbindung mit einem Ticket oder der Abendkasse als Zugang
 skarte für den Apéro\nSpecials:\n20.30 - 22.00 'Nur für VIP\, Members &amp
 \; VVK' Apero &amp\; Fingerfood auf der grossflächigen Dachterasse der Ban
 anenreiferei. Als Member von Kartazoon bist du recht herzlich eingeladen a
 m Apero\, exclusive Eintritt für den Event\, teil zu haben. \n&nbsp\;\n\nT
 ickets:\nEarly Bird - Sold out&nbsp\;\n- Sleepy Bird Ticket: Türöffnung ab
  22:00 Uhr\n- Late Bird Ticket: Türöffnung ab 22:00 Uhr\n- Apero Ticket: T
 üröffnung ab 20:30 Uhr\n- Special Backstage Ticket: Türöffnung ab 20:30 Uh
 rinkl. Einlass zum Apero\, Zugang zum Backstage mit eigener Bar und Freien
  Getränken à dis&shy\;cré&shy\;ti&shy\;onSeparate Toiletten.\n\n\nGrosszüg
 ige Chillout Area:\n-Dachterrasse mit 600m2 Aussenbereich- Food Corner mit
  Hausgemachten Burger&nbsp\; von Vegi bis XXL Cheeseburgers\n\nMusic-style
 s:\nTechno / variants of Trance\n&nbsp\;\nLine-up - MAINFLOOR / Indoor:\nS
 IGNUM from Holland (3H special long time set)\nCut A. Kaos\nVANJA vs.&nbsp
 \;BODO KAISERINDIAN vs. ANYKEN\n22.00 - 24.00 'variants of Techno'  Das mi
 t voller power geladenem Musikprogramm wird eröffnet vom 'Techno-Guru' Dj 
 Cut A. Kaos höchstpersönlich. 24.00 - 07.00 'variants of Trance'  Mit den 
 Dj-Teams: Vanja B2B Bodo Kaiser - Indian B2B Anyken  Unser Headliner des a
 bends - SIGNUM aus Holland - wird uns gleich ein 3H set seiner neusten Tou
 r präsentieren. SIGNUM xposed   Das eines schon mal klar ist - eine heisse
  Sommernacht wird es mit Bestimmtheit werden\nBeginn: 20:30 UhrEnde: 7:00 
 Uhr\nWeitere Infos:\n-&nbsp\;600 Parkplätze direkt auf dem Dach des Gebäud
 es-&nbsp\;Tram nr. 4 ab Hardbrücke-&nbsp\;25h Hotel auf der anderen Strass
 enseite\nRollstuhlplätze: normales Ticket\nAltersbeschränkung: 18+\nHier g
 eht's zum Memberantrag\n&nbsp\;
DTSTART:20180630T203000Z
DTEND:20180701T070000Z
GEO:+47.389854;+8.507383
LOCATION:Bananenreiferei
ORGANIZER:
SEQUENCE:1
SUMMARY:SIGNUM xposed
TRANSP:OPAQUE
URL:https://www.kartazoon.ch/events/events-archiv/67-SIGNUM%20xposed
END:VEVENT
END:VCALENDAR
