BEGIN:VCALENDAR
VERSION:2.0
PRODID:-//Kartazoon//NONSGML kigkonsult.se iCalcreator 2.41.92//
CALSCALE:GREGORIAN
METHOD:PUBLISH
UID:30353465-6235-4263-a633-386139353364
X-WR-CALNAME:iCagenda
X-WR-CALDESC:Event Management Extension for Joomla!
X-WR-RELCALID:3E26604A-50F4-4449-8B3E-E4F4932D05B5
X-WR-TIMEZONE:UTC
BEGIN:VTIMEZONE
TZID:UTC
END:VTIMEZONE
BEGIN:VEVENT
UID:39636263-6636-4135-b930-346266316663
DTSTAMP:20260421T155511Z
CATEGORIES:Kartazoon Mitglieder
CLASS:PUBLIC
DESCRIPTION;ALTREP="CID:<FFFF__=0ABBE548DFE235B58f9e8a93d@coffeebean.com>":
 Recall - Remember the time\n&nbsp\;\nBereits zum zweiten mal wird die seit
  Jahren erfolgreiche Party 'Recall' nun wieder im Club Dampf durchgeführt.
 \nGerne wollen wir mit Euch darauf Anstossen. \nSpecials:\nOriginal Recall
  crew: Sonja &amp\; Carmen\n&nbsp\;\nMusic-styles:\nRemember / Trance / Pr
 ogressive\n&nbsp\;\nLine-up:\nMas Ricardo\nNonsdrome\nSimple\nAngy Dee\nAn
 yken\nVanja\nIndian\nNostra\nDer Einlass gilt nur für Members. Jeder Gast 
 muss mindestens eine Tagesmitgliedschaft (Kostenpunkt: CHF 25) beantragen!
  Die Location befindet sich im Otto Rupf-Gebäude - Eingang bei der Tiefgar
 age. Zu Fuss ca. 4 Minuten vom Bahnhof Stettbach entfernt. Reichlich Parkp
 lätze um das Gebäude sind vorhanden.\nHier geht's zum Memberantrag\n&nbsp\
 ;
DTSTART:20180505T220000Z
DTEND:20180506T080000Z
GEO:+47.395519;+8.598752
LOCATION:Club Dampf
ORGANIZER:
SEQUENCE:1
SUMMARY:Recall
TRANSP:OPAQUE
URL:https://www.kartazoon.ch/events/events-archiv/66-Recall
END:VEVENT
END:VCALENDAR
