BEGIN:VCALENDAR
VERSION:2.0
PRODID:-//Kartazoon//NONSGML kigkonsult.se iCalcreator 2.41.92//
CALSCALE:GREGORIAN
METHOD:PUBLISH
UID:66646261-3831-4236-b563-656530396338
X-WR-CALNAME:iCagenda
X-WR-CALDESC:Event Management Extension for Joomla!
X-WR-RELCALID:3E26604A-50F4-4449-8B3E-E4F4932D05B5
X-WR-TIMEZONE:UTC
BEGIN:VTIMEZONE
TZID:UTC
END:VTIMEZONE
BEGIN:VEVENT
UID:34333530-3139-4234-b836-323638623332
DTSTAMP:20260421T162216Z
CATEGORIES:Kartazoon Mitglieder
CLASS:PUBLIC
DESCRIPTION;ALTREP="CID:<FFFF__=0ABBE548DFE235B58f9e8a93d@coffeebean.com>":
 \nNightflight 2\n\nMusic-styles:\nProgressive / Fullon / Psytrance\n&nbsp\
 ;\nLine-up:\nKlangwurzel (Special guest)\nSoul@work\nGregg\nVanja\nRafFX\n
 &nbsp\;\nDer Einlass gilt nur für Members. Jeder Gast muss mindestens eine
  Tagesmitgliedschaft (Kostenpunkt: CHF 20) beantragen! Die Location befind
 et sich im Otto Rupf-Gebäude - Eingang bei der Tiefgarage. Zu Fuss ca. 4 M
 inuten vom Bahnhof Stettbach entfernt. Reichlich Parkplätze um das Gebäude
  sind vorhanden.\nHier geht's zum Memberantrag
DTSTART:20180602T220000Z
DTEND:20180603T070000Z
GEO:+47.395519;+8.598752
LOCATION:Club Dampf
ORGANIZER:
SEQUENCE:1
SUMMARY:Nightflight 2
TRANSP:OPAQUE
URL:https://www.kartazoon.ch/events/events-archiv/65-Nightflight%202
END:VEVENT
END:VCALENDAR
