BEGIN:VCALENDAR
VERSION:2.0
PRODID:-//Kartazoon//NONSGML kigkonsult.se iCalcreator 2.41.92//
CALSCALE:GREGORIAN
METHOD:PUBLISH
UID:62633732-3530-4462-b434-656664393430
X-WR-CALNAME:iCagenda
X-WR-CALDESC:Event Management Extension for Joomla!
X-WR-RELCALID:3E26604A-50F4-4449-8B3E-E4F4932D05B5
X-WR-TIMEZONE:UTC
BEGIN:VTIMEZONE
TZID:UTC
END:VTIMEZONE
BEGIN:VEVENT
UID:62363238-6438-4233-b532-303339316163
DTSTAMP:20260421T160108Z
CATEGORIES:Kartazoon Mitglieder
CLASS:PUBLIC
DESCRIPTION;ALTREP="CID:<FFFF__=0ABBE548DFE235B58f9e8a93d@coffeebean.com>":
 Trance for friends\n&nbsp\;\nWir freuen uns auf eine erste Ausgabe - tranc
 e for friends mit dem primären Ziel:\nIn variants of Trance 1993 - 2018\n&
 nbsp\;\nSpecials:\nBirthday-Bash by Dj Skygame (7.7.77)\n&nbsp\;\nMusic-st
 yles:\nin variants of Trance\n&nbsp\;\nLine-up:\nAnyken\nSkygame\nTravis\n
 Snowbreeze\n&nbsp\;\nDer Einlass gilt nur für Members. Jeder Gast muss min
 destens eine Tagesmitgliedschaft (Kostenpunkt: CHF 20) beantragen! Die Loc
 ation befindet sich im Otto Rupf-Gebäude - Eingang bei der Tiefgarage. Zu 
 Fuss ca. 4 Minuten vom Bahnhof Stettbach entfernt. Reichlich Parkplätze um
  das Gebäude sind vorhanden.\nHier geht's zum Memberantrag
DTSTART:20180707T220000Z
DTEND:20180708T060000Z
GEO:+47.395519;+8.598752
LOCATION:Club Dampf
ORGANIZER:
SEQUENCE:1
SUMMARY:Trance for friends
TRANSP:OPAQUE
URL:https://www.kartazoon.ch/events/events-archiv/64-trance%20for%20friends
END:VEVENT
END:VCALENDAR
