BEGIN:VCALENDAR
VERSION:2.0
PRODID:-//Kartazoon//NONSGML kigkonsult.se iCalcreator 2.41.92//
CALSCALE:GREGORIAN
METHOD:PUBLISH
UID:32356238-3364-4465-a633-366534666263
X-WR-CALNAME:iCagenda
X-WR-CALDESC:Event Management Extension for Joomla!
X-WR-RELCALID:3E26604A-50F4-4449-8B3E-E4F4932D05B5
X-WR-TIMEZONE:UTC
BEGIN:VTIMEZONE
TZID:UTC
END:VTIMEZONE
BEGIN:VEVENT
UID:63306238-6230-4861-b835-623737336431
DTSTAMP:20260421T154554Z
CATEGORIES:Kartazoon Mitglieder
CLASS:PUBLIC
DESCRIPTION;ALTREP="CID:<FFFF__=0ABBE548DFE235B58f9e8a93d@coffeebean.com>":
 Nightflight\n&nbsp\;\nMusic-styles:\nProgressive / Fullon / Psytrance\n&nb
 sp\;\nLine-up:\nCreator (Tesseract)\nGregg\nVanja\n&nbsp\;\nDer Einlass gi
 lt nur für Members. Jeder Gast muss mindestens eine Tagesmitgliedschaft (K
 ostenpunkt: CHF 20) beantragen! Die Location befindet sich im Otto Rupf-Ge
 bäude - Eingang bei der Tiefgarage. Zu Fuss ca. 4 Minuten vom Bahnhof Stet
 tbach entfernt. Reichlich Parkplätze um das Gebäude sind vorhanden.\nHier 
 geht's zum Memberantrag
DTSTART:20180428T220000Z
DTEND:20180429T070000Z
GEO:+47.395519;+8.598752
LOCATION:Club Dampf
ORGANIZER:
SEQUENCE:1
SUMMARY:Nightflight
TRANSP:OPAQUE
URL:https://www.kartazoon.ch/events/events-archiv/63-Nightflight
END:VEVENT
END:VCALENDAR
