BEGIN:VCALENDAR
VERSION:2.0
PRODID:-//Kartazoon//NONSGML kigkonsult.se iCalcreator 2.41.92//
CALSCALE:GREGORIAN
METHOD:PUBLISH
UID:62383535-6139-4531-a463-393866313266
X-WR-CALNAME:iCagenda
X-WR-CALDESC:Event Management Extension for Joomla!
X-WR-RELCALID:3E26604A-50F4-4449-8B3E-E4F4932D05B5
X-WR-TIMEZONE:UTC
BEGIN:VTIMEZONE
TZID:UTC
END:VTIMEZONE
BEGIN:VEVENT
UID:35356637-3362-4630-b433-393433366664
DTSTAMP:20260421T161125Z
CATEGORIES:Kartazoon Mitglieder
CLASS:PUBLIC
DESCRIPTION;ALTREP="CID:<FFFF__=0ABBE548DFE235B58f9e8a93d@coffeebean.com>":
 We love the new trance / VIP Edition\n&nbsp\;\nDavid gegen Goliath  Es ist
  kein Witz. Es ist wirklich so\, dass am 14.4.2018 David gegen Goliath ist
 . David aka Dave Zee nimmt die Herausforderung an. Im Komplex findet die G
 oliath statt. Das hält David\, der Gründer des seit 2016 mit Erfolg laufen
 dem Events WLNT\, welcher seit der ersten Party im Club Dampf stattfindet 
 aber nicht davon ab\, mit euch eine spezielle Party zu feiern. \n&nbsp\;\n
 \nMusic-styles\, Line-up &amp\; Programm:\n Ab 22.00 Uhr starten wir mit r
 uhigerem Sound von Dj Cozmo. Er ist schweizweit für seine ruhigen Sets bek
 annt. Mit seiner Soundauswahl werden wir durch den Apero begleitet. Ja gen
 au. Dieses Mal wird David Zwahlen einen Apero mit Fingerfood inklusive ein
 em Glas Prosecco oder ein anderes Getränk offerieren. Um Dir noch mehr VIP
 -Ambiente zu bieten\, werden alle DJ`s auch von Anfang an dabei sein. Das 
 nennen wir VIP!  Zu diesem sehr exklusiven Anlass konnte David die aktuell
 e Star-Ikone\, Alessandra Roncone aus Italien buchen. Sie stürmt seit eini
 ger Zeit die Charts. Spielt mit Grössen wie Aly &amp\; Fila\, Talla 2XLC\,
  Darren Porter\, Sean Tyas uvm. Zusätzlich kommt unsere bekannteste Lady d
 er Trancescene - DJ Tatana. Ihr herzliches Wesen unterstreicht Sie mit Ihr
 er harmonischen Soundauswahl. Wir freuen uns sehr\, dass Sie auch mit von 
 der Partie ist. Weitere Acts wie Baco\, R-Tec\, Gemix &amp\; Tony Thomson 
 werden an diesem spannendem und mit voller power geladenem Abend Ihre Hand
 fertigkeiten hinter dem Mischer einmal mehr unter Beweis stellen können. S
 elbstverständlich darf ein weiteres Set des Geburtstagskindes Dave Zee nic
 ht fehlen. Was wäre eine WLNT ohne ein Set seinerseits.\n\nDer Einlass gil
 t nur für Members oder geladene Gäste des Geburtstagskindes David Zwahlen.
  Seine Freunde und Bekannten werden auf der Gästeliste der Tagesmitglieder
  vermerkt werden. Jeder Gast muss mindestens eine Tagesmitgliedschaft (Kos
 tenpunkt: CHF 25) beantragen! Die Location befindet sich im Otto Rupf-Gebä
 ude - Eingang bei der Tiefgarage. Zu Fuss ca. 4 Minuten vom Bahnhof Stettb
 ach entfernt. Reichlich Parkplätze um das Gebäude sind vorhanden.\nHier ge
 ht's zum Memberantrag
DTSTART:20180414T220000Z
DTEND:20180415T050000Z
GEO:+47.395519;+8.598752
LOCATION:Club Dampf
ORGANIZER:
SEQUENCE:1
SUMMARY:WLNT VIP Edition
TRANSP:OPAQUE
URL:https://www.kartazoon.ch/events/events-archiv/62-WLNT%20VIP%20Edition
END:VEVENT
END:VCALENDAR
