BEGIN:VCALENDAR
VERSION:2.0
PRODID:-//Kartazoon//NONSGML kigkonsult.se iCalcreator 2.41.92//
CALSCALE:GREGORIAN
METHOD:PUBLISH
UID:33353764-3532-4663-b539-326534663965
X-WR-CALNAME:iCagenda
X-WR-CALDESC:Event Management Extension for Joomla!
X-WR-RELCALID:3E26604A-50F4-4449-8B3E-E4F4932D05B5
X-WR-TIMEZONE:UTC
BEGIN:VTIMEZONE
TZID:UTC
END:VTIMEZONE
BEGIN:VEVENT
UID:32613537-3732-4335-a664-356437363036
DTSTAMP:20260421T161539Z
CATEGORIES:Kartazoon Mitglieder
CLASS:PUBLIC
DESCRIPTION;ALTREP="CID:<FFFF__=0ABBE548DFE235B58f9e8a93d@coffeebean.com>":
 Trance Feelings\n&nbsp\;\nEs freut uns von Kartazoon euch ein weiteres Ham
 merline-up präsentieren zu können.\n&nbsp\;\nMusic-styles:\nIn variants of
  Trance \n&nbsp\;\nLine-up:\nDERB aka Hennes &amp\; Cold\nGhostRafFXMadwav
 eBodo KaiserS.P.H.E.R.E.SubstanceNow-HereGreggVanja\nDer Einlass gilt nur 
 für Members. Jeder Gast muss mindestens eine Tagesmitgliedschaft (Kostenpu
 nkt: CHF 25) beantragen! Die Location befindet sich im Otto Rupf-Gebäude -
  Eingang bei der Tiefgarage. Zu Fuss ca. 4 Minuten vom Bahnhof Stettbach e
 ntfernt. Reichlich Parkplätze um das Gebäude sind vorhanden.\nHier geht's 
 zum Memberantrag
DTSTART:20180317T220000Z
DTEND:20180318T080000Z
GEO:+47.395519;+8.598752
LOCATION:Club Dampf
ORGANIZER:
SEQUENCE:1
SUMMARY:Trance Feelings
TRANSP:OPAQUE
URL:https://www.kartazoon.ch/events/events-archiv/61-Trance%20Feelings
END:VEVENT
END:VCALENDAR
