BEGIN:VCALENDAR
VERSION:2.0
PRODID:-//Kartazoon//NONSGML kigkonsult.se iCalcreator 2.41.92//
CALSCALE:GREGORIAN
METHOD:PUBLISH
UID:61633632-6134-4836-b566-643663626362
X-WR-CALNAME:iCagenda
X-WR-CALDESC:Event Management Extension for Joomla!
X-WR-RELCALID:3E26604A-50F4-4449-8B3E-E4F4932D05B5
X-WR-TIMEZONE:UTC
BEGIN:VTIMEZONE
TZID:UTC
END:VTIMEZONE
BEGIN:VEVENT
UID:32313135-6665-4734-a538-333432623961
DTSTAMP:20260421T150844Z
CATEGORIES:Kartazoon Mitglieder
CLASS:PUBLIC
DESCRIPTION;ALTREP="CID:<FFFF__=0ABBE548DFE235B58f9e8a93d@coffeebean.com>":
 Wir laden zum Tanz\nAndialbundy meets Vanja - all night long\n&nbsp\;\nSpe
 cial:\nDario's Birthday-Bash\n&nbsp\;\nMusic-styles:&nbsp\;\nProgressiv / 
 Trance / Remember\nDer Einlass gilt nur für Members und jene Personen die 
 eine persönliche Einladung erhalten haben.Die Location befindet sich im Ot
 to Rupf-Gebäude - Eingang bei der Tiefgarage. Zu Fuss ca. 4 Minuten vom Ba
 hnhof Stettbach entfernt. Reichlich Parkplätze um das Gebäude vorhanden.\n
 Hier geht's zum&nbsp\;Memberantrag
DTSTART:20150925T220000Z
DTEND:20150926T060000Z
GEO:+47.395519;+8.598752
LOCATION:Club Dampf
ORGANIZER:
SEQUENCE:1
SUMMARY:Andialbundy meets Vanja
TRANSP:OPAQUE
URL:https://www.kartazoon.ch/events/events-archiv/6-all%20night%20long
END:VEVENT
END:VCALENDAR
