BEGIN:VCALENDAR
VERSION:2.0
PRODID:-//Kartazoon//NONSGML kigkonsult.se iCalcreator 2.41.92//
CALSCALE:GREGORIAN
METHOD:PUBLISH
UID:35383438-3431-4462-b663-306436643365
X-WR-CALNAME:iCagenda
X-WR-CALDESC:Event Management Extension for Joomla!
X-WR-RELCALID:3E26604A-50F4-4449-8B3E-E4F4932D05B5
X-WR-TIMEZONE:UTC
BEGIN:VTIMEZONE
TZID:UTC
END:VTIMEZONE
BEGIN:VEVENT
UID:35323136-3233-4639-a530-346235383639
DTSTAMP:20260421T161737Z
CATEGORIES:Kartazoon Mitglieder
CLASS:PUBLIC
DESCRIPTION;ALTREP="CID:<FFFF__=0ABBE548DFE235B58f9e8a93d@coffeebean.com>":
 Du saule Fau \n&nbsp\;\nMiguel's 40th B-Day Bash\n&nbsp\;\nMusic-styles:\n
 Remember / Progressive / Techno\n&nbsp\;\nLine-up:\nNonsdrome\nSimple\nVan
 ja\nUpspace\nGregg\n&nbsp\;\nDer Einlass gilt nur für Members. Jeder Gast 
 muss mindestens eine Tagesmitgliedschaft (Kostenpunkt: CHF 20) beantragen!
  Die Location befindet sich im Otto Rupf-Gebäude - Eingang bei der Tiefgar
 age. Zu Fuss ca. 4 Minuten vom Bahnhof Stettbach entfernt. Reichlich Parkp
 lätze um das Gebäude sind vorhanden.\nHier geht's zum Memberantrag
DTSTART:20180203T220000Z
DTEND:20180204T080000Z
GEO:+47.395519;+8.598752
LOCATION:Club Dampf
ORGANIZER:
SEQUENCE:1
SUMMARY:Du saule Fau
TRANSP:OPAQUE
URL:https://www.kartazoon.ch/events/events-archiv/59-Du%20saule%20Fau
END:VEVENT
END:VCALENDAR
