BEGIN:VCALENDAR
VERSION:2.0
PRODID:-//Kartazoon//NONSGML kigkonsult.se iCalcreator 2.41.92//
CALSCALE:GREGORIAN
METHOD:PUBLISH
UID:39323336-6439-4962-b335-333864653730
X-WR-CALNAME:iCagenda
X-WR-CALDESC:Event Management Extension for Joomla!
X-WR-RELCALID:3E26604A-50F4-4449-8B3E-E4F4932D05B5
X-WR-TIMEZONE:UTC
BEGIN:VTIMEZONE
TZID:UTC
END:VTIMEZONE
BEGIN:VEVENT
UID:39313632-6530-4864-b237-643961323638
DTSTAMP:20260421T162844Z
CATEGORIES:In Kollaboration mit ...
CLASS:PUBLIC
DESCRIPTION;ALTREP="CID:<FFFF__=0ABBE548DFE235B58f9e8a93d@coffeebean.com>":
 Nachtfalter\nWir freuen uns auf eine erste Zusammenarbeit mit dem frisch g
 egründeten Label - NACHTFALTER.\n&nbsp\;\nSpecials:\n3hours-dj sets\n&nbsp
 \;\nMusic-styles:\nTechno / Progressive \n&nbsp\;\nLine-up:\nAlison\nArtem
 iss\nDer Ritter\n&nbsp\;\nDer Einlass gilt nur für Members. Jeder Gast mus
 s mindestens eine Tagesmitgliedschaft (Kostenpunkt: CHF 20) beantragen! Di
 e Location befindet sich im Otto Rupf-Gebäude - Eingang bei der Tiefgarage
 . Zu Fuss ca. 4 Minuten vom Bahnhof Stettbach entfernt. Reichlich Parkplät
 ze um das Gebäude sind vorhanden.\nHier geht's zum Memberantrag
DTSTART:20180120T220000Z
DTEND:20180121T070000Z
GEO:+47.395519;+8.598752
LOCATION:Club Dampf
ORGANIZER:
SEQUENCE:1
SUMMARY:Nachtfalter
TRANSP:OPAQUE
URL:https://www.kartazoon.ch/events/events-archiv/58-Nachtfalter
END:VEVENT
END:VCALENDAR
