BEGIN:VCALENDAR
VERSION:2.0
PRODID:-//Kartazoon//NONSGML kigkonsult.se iCalcreator 2.41.92//
CALSCALE:GREGORIAN
METHOD:PUBLISH
UID:32303131-3832-4233-b665-386130303532
X-WR-CALNAME:iCagenda
X-WR-CALDESC:Event Management Extension for Joomla!
X-WR-RELCALID:3E26604A-50F4-4449-8B3E-E4F4932D05B5
X-WR-TIMEZONE:UTC
BEGIN:VTIMEZONE
TZID:UTC
END:VTIMEZONE
BEGIN:VEVENT
UID:64643037-6461-4039-b133-626664363235
DTSTAMP:20260421T161135Z
CATEGORIES:Kartazoon Mitglieder
CLASS:PUBLIC
DESCRIPTION;ALTREP="CID:<FFFF__=0ABBE548DFE235B58f9e8a93d@coffeebean.com>":
 From past to future\n&nbsp\;\nKomm und sei dabei beim offiziell letzten Ev
 ent 2017 by Kartazoon @ Club Dampf.\n&nbsp\;\nWir öffnen die Türen des Dam
 pf's bereits auf 20.00 und werden bis 22.00 die Bar im Happyhours Modus be
 dienen. Musikalisch möchten wir dich auf eine Reise\, mit den highlights a
 us den Jahren 1993 bis 2017 führen\, 25 Jahre bester elektronischer Musik 
 der Prorgessive\, Trance\, allgemein der Techno-Szene. Wir würden uns sehr
  freuen dich im 2017 noch ein letztes mal im Club Dampf begrüssen zu dürfe
 n.\nGemeinsam Lachen\, Tanzen\, Sein.&nbsp\; &nbsp\;\n&nbsp\;\nSpecials:\n
 \n20.00 - 22.00 Happyhours / 2 für 1\n22.00 - 02.00 Vanja meets Nonsdrome
 \n02.00 - 04.00 eZuercher - live\n04.00 - 06.00 Vanja meets eZuercher\n\n&
 nbsp\;\nMusic-styles:\nProgressive / Trance / Remember\n&nbsp\;\nLine-up:
 \nNonsdrome\nVanja\neZuercher\n&nbsp\;\nDer Einlass gilt nur für Members. 
 Jeder Gast muss mindestens eine Tagesmitgliedschaft (Kostenpunkt: CHF 20) 
 beantragen! Die Location befindet sich im Otto Rupf-Gebäude - Eingang bei 
 der Tiefgarage. Zu Fuss ca. 4 Minuten vom Bahnhof Stettbach entfernt. Reic
 hlich Parkplätze um das Gebäude sind vorhanden.\nHier geht's zum Memberant
 rag
DTSTART:20171208T200000Z
DTEND:20171209T060000Z
GEO:+47.395519;+8.598752
LOCATION:Club Dampf
ORGANIZER:
SEQUENCE:1
SUMMARY:From past to Future
TRANSP:OPAQUE
URL:https://www.kartazoon.ch/events/events-archiv/57-From%20past%20to%20Fut
 ure
END:VEVENT
END:VCALENDAR
