BEGIN:VCALENDAR
VERSION:2.0
PRODID:-//Kartazoon//NONSGML kigkonsult.se iCalcreator 2.41.92//
CALSCALE:GREGORIAN
METHOD:PUBLISH
UID:66383962-6534-4635-b665-653832396533
X-WR-CALNAME:iCagenda
X-WR-CALDESC:Event Management Extension for Joomla!
X-WR-RELCALID:3E26604A-50F4-4449-8B3E-E4F4932D05B5
X-WR-TIMEZONE:UTC
BEGIN:VTIMEZONE
TZID:UTC
END:VTIMEZONE
BEGIN:VEVENT
UID:65326634-3263-4039-a635-663131626462
DTSTAMP:20260421T160439Z
CATEGORIES:Kartazoon Mitglieder
CLASS:PUBLIC
DESCRIPTION;ALTREP="CID:<FFFF__=0ABBE548DFE235B58f9e8a93d@coffeebean.com>":
 Skorpion B-day Party\n\nSpecials:\n\n22:55-23:05 Gratis Shot für alle Skor
 pione\n\n&nbsp\;\nMusic-styles:\nProgressive / Trance / Remember\n&nbsp\;
 \nLine-up:\nHarmony\nNostra\nNow-Here (B-Day)\nAnyken\nVanja\nMiss Deemona
 \nDer Einlass gilt nur für Members. Jeder Gast muss mindestens eine Tagesm
 itgliedschaft (Kostenpunkt: CHF 25) beantragen! Die Location befindet sich
  im Otto Rupf-Gebäude - Eingang bei der Tiefgarage. Zu Fuss ca. 4 Minuten 
 vom Bahnhof Stettbach entfernt. Reichlich Parkplätze um das Gebäude sind v
 orhanden.\nHier geht's zum Memberantrag
DTSTART:20171118T220000Z
DTEND:20171119T080000Z
GEO:+47.395519;+8.598752
LOCATION:Club Dampf
ORGANIZER:
SEQUENCE:1
SUMMARY:Skorpion B-Day Bash
TRANSP:OPAQUE
URL:https://www.kartazoon.ch/events/events-archiv/55-Skorpion%20B-Day%20Bas
 h
END:VEVENT
END:VCALENDAR
