BEGIN:VCALENDAR
VERSION:2.0
PRODID:-//Kartazoon//NONSGML kigkonsult.se iCalcreator 2.41.92//
CALSCALE:GREGORIAN
METHOD:PUBLISH
UID:32663565-3966-4661-a162-353265666463
X-WR-CALNAME:iCagenda
X-WR-CALDESC:Event Management Extension for Joomla!
X-WR-RELCALID:3E26604A-50F4-4449-8B3E-E4F4932D05B5
X-WR-TIMEZONE:UTC
BEGIN:VTIMEZONE
TZID:UTC
END:VTIMEZONE
BEGIN:VEVENT
UID:31323639-3338-4439-a335-616133333731
DTSTAMP:20260421T180820Z
CATEGORIES:Kartazoon Mitglieder
CLASS:PUBLIC
DESCRIPTION;ALTREP="CID:<FFFF__=0ABBE548DFE235B58f9e8a93d@coffeebean.com>":
 IONO Music meets Kartazoon\n\nSpecials:\n3H set by Cubixx\n&nbsp\;\nMusic-
 styles:\nProgressive\n&nbsp\;\nLine-up:\n22.00-01.00 Vanja\n01.00-04.00 Cu
 bixx\n04.00-06.00 Gregg\nDer Einlass gilt nur für Members. Jeder Gast muss
  mindestens eine Tagesmitgliedschaft (Kostenpunkt: CHF 25) beantragen! Die
  Location befindet sich im Otto Rupf-Gebäude - Eingang bei der Tiefgarage.
  Zu Fuss ca. 4 Minuten vom Bahnhof Stettbach entfernt. Reichlich Parkplätz
 e um das Gebäude sind vorhanden.\nHier geht's zum Memberantrag
DTSTART:20171021T220000Z
DTEND:20171022T060000Z
GEO:+47.395519;+8.598752
LOCATION:Club Dampf
ORGANIZER:
SEQUENCE:1
SUMMARY:IONO Music
TRANSP:OPAQUE
URL:https://www.kartazoon.ch/events/events-archiv/54-IONO%20Music
END:VEVENT
END:VCALENDAR
