BEGIN:VCALENDAR
VERSION:2.0
PRODID:-//Kartazoon//NONSGML kigkonsult.se iCalcreator 2.41.92//
CALSCALE:GREGORIAN
METHOD:PUBLISH
UID:32323663-3236-4834-a235-616264633061
X-WR-CALNAME:iCagenda
X-WR-CALDESC:Event Management Extension for Joomla!
X-WR-RELCALID:3E26604A-50F4-4449-8B3E-E4F4932D05B5
X-WR-TIMEZONE:UTC
BEGIN:VTIMEZONE
TZID:UTC
END:VTIMEZONE
BEGIN:VEVENT
UID:33666466-3636-4234-a234-633764303537
DTSTAMP:20260421T175810Z
CATEGORIES:Kartazoon Mitglieder
CLASS:PUBLIC
DESCRIPTION;ALTREP="CID:<FFFF__=0ABBE548DFE235B58f9e8a93d@coffeebean.com>":
 Recall - Remember the time\nAnyken B-Day &amp\; Friends edition\n&nbsp\;\n
 Gerne wollen wir mit Euch darauf Anstossen. \nSpecials:\nOriginal Recall c
 rew: Sonja &amp\; Carmen\nInkl. afterhours bis 10.00 Uhr\n&nbsp\;\nMusic-s
 tyles:\nRemember / Trance / Progressive / Psy\n&nbsp\;\nLine-up:\nAnyken (
 B-Day)\nBeat Herren (Live)\nC.A.\nIndian\nNow-here\nCentaury\nArachno\nSol
 id N.R.G.\nDave-Z\nNassiria\nHitsch-Tone\nDer Einlass gilt nur für Members
  oder Gäste des Geburtstagkindes Anyken. Jeder Gast muss mindestens eine T
 agesmitgliedschaft (Kostenpunkt: CHF 25) beantragen! Die Location befindet
  sich im Otto Rupf-Gebäude - Eingang bei der Tiefgarage. Zu Fuss ca. 4 Min
 uten vom Bahnhof Stettbach entfernt. Reichlich Parkplätze um das Gebäude s
 ind vorhanden.\nHier geht's zum Memberantrag\n&nbsp\;
DTSTART:20170923T220000Z
DTEND:20170924T100000Z
GEO:+47.395519;+8.598752
LOCATION:Club Dampf
ORGANIZER:
SEQUENCE:1
SUMMARY:Recall - Anyken B-Day & Friends edition
TRANSP:OPAQUE
URL:https://www.kartazoon.ch/events/events-archiv/53-recall-anyken-b-day-fr
 iends-edition
END:VEVENT
END:VCALENDAR
