BEGIN:VCALENDAR
VERSION:2.0
PRODID:-//Kartazoon//NONSGML kigkonsult.se iCalcreator 2.41.92//
CALSCALE:GREGORIAN
METHOD:PUBLISH
UID:30653231-6133-4561-a239-653832336463
X-WR-CALNAME:iCagenda
X-WR-CALDESC:Event Management Extension for Joomla!
X-WR-RELCALID:3E26604A-50F4-4449-8B3E-E4F4932D05B5
X-WR-TIMEZONE:UTC
BEGIN:VTIMEZONE
TZID:UTC
END:VTIMEZONE
BEGIN:VEVENT
UID:33366562-3134-4366-a431-333532653936
DTSTAMP:20260421T180625Z
CATEGORIES:Kartazoon Mitglieder
CLASS:PUBLIC
DESCRIPTION;ALTREP="CID:<FFFF__=0ABBE548DFE235B58f9e8a93d@coffeebean.com>":
 DAWA's - Birthday @ Club Dampf\n&nbsp\;\nGerne wollen wir mit Euch darauf 
 Anstossen.  Programmablauf: 22.00 - 23.00 Welcome-Bowle (es hat so lange e
 s hat) 23.00 - 06.00 Tanzen\, Lachen und Geniessen unter Freunden von Freu
 nden 06.00 - ... je nach Wetter\, Barbetrieb\, Lust und Laune geht es noch
  einwenig weiter \nMusic-styles:\nProgressive / Psy\n&nbsp\;\nLine-up:\nDA
 WA DJ Manu DoppTy Project X2.1 Gregg Vanja\nDer Einlass gilt nur für Membe
 rs. Jeder Gast muss mindestens eine Tagesmitgliedschaft (Kostenpunkt: CHF1
 0) beantragen! Die Location befindet sich im Otto Rupf-Gebäude - Eingang b
 ei der Tiefgarage. Zu Fuss ca. 4 Minuten vom Bahnhof Stettbach entfernt. R
 eichlich Parkplätze um das Gebäude sind vorhanden.\nHier geht's zum Member
 antrag\n&nbsp\;
DTSTART:20170714T220000Z
DTEND:20170715T060000Z
GEO:+47.395519;+8.598752
LOCATION:Club Dampf
ORGANIZER:
SEQUENCE:1
SUMMARY:DAWA's - Birthday @ Club Dampf
TRANSP:OPAQUE
URL:https://www.kartazoon.ch/events/events-archiv/52-DAWA%27s%20-%20Birthda
 y%20@%20Club%20Dampf
END:VEVENT
END:VCALENDAR
