BEGIN:VCALENDAR
VERSION:2.0
PRODID:-//Kartazoon//NONSGML kigkonsult.se iCalcreator 2.41.92//
CALSCALE:GREGORIAN
METHOD:PUBLISH
UID:34626236-3531-4439-a439-656265336234
X-WR-CALNAME:iCagenda
X-WR-CALDESC:Event Management Extension for Joomla!
X-WR-RELCALID:3E26604A-50F4-4449-8B3E-E4F4932D05B5
X-WR-TIMEZONE:UTC
BEGIN:VTIMEZONE
TZID:UTC
END:VTIMEZONE
BEGIN:VEVENT
UID:62616430-6439-4163-b736-656434316166
DTSTAMP:20260421T170956Z
CATEGORIES:Kartazoon Mitglieder
CLASS:PUBLIC
DESCRIPTION;ALTREP="CID:<FFFF__=0ABBE548DFE235B58f9e8a93d@coffeebean.com>":
 Big Birthdaybash\n&nbsp\;\nEs gibt gleich 3 Gründe diesen Anlass auf keine
 n Fall verpassen zu dürfen.\n&nbsp\;\n3 Jahre Club Dampf\nIn Zusammenarbei
 t mit Akustik-Produkt bauten wir während den letzten 3 Jahren den Club Dam
 pf\, auch bekannt unter dem Namen -&nbsp\; chez otto - zu einem durchaus k
 onkurrenzfähigem Club auf. Dies wäre eigentlich schon Grund genug\, diesen
  Anlass auf keinen Fall verpassen zu dürfen.\n&nbsp\;\nDie weiteren 2 Grün
 de gehen mehr in eine persönliche Richtung.\n&nbsp\;\n\n39 Jahre V.S.D.\n4
 0 Jahre Tanja Beyeler\n\n&nbsp\;\nGerne wollen wir mit euch darauf anstoss
 en. Natürlich haben wir dafür ein hochkarätiges\, nicht alltägliches line-
 up zusammengestellt.\n&nbsp\;\nMusic-styles:\nTechno / Trance / Progressiv
 e\n&nbsp\;\nLine-up:\nSimple\nPhrenetic\nNonsdrome\nNow-here\nDave-Z\nGhos
 t\nVanja\nDer Einlass gilt nur für Members. Jeder Gast muss mindestens ein
 e Tagesmitgliedschaft (Kostenpunkt: CHF20) beantragen! Die Location befind
 et sich im Otto Rupf-Gebäude - Eingang bei der Tiefgarage. Zu Fuss ca. 4 M
 inuten vom Bahnhof Stettbach entfernt. Reichlich Parkplätze um das Gebäude
  sind vorhanden.\nHier geht's zum Memberantrag\n&nbsp\;
DTSTART:20170701T220000Z
DTEND:20170702T080000Z
GEO:+47.395519;+8.598752
LOCATION:Club Dampf
ORGANIZER:
SEQUENCE:1
SUMMARY:Big Birthdaybash
TRANSP:OPAQUE
URL:https://www.kartazoon.ch/events/events-archiv/51-Big%20Birthdaybash
END:VEVENT
END:VCALENDAR
