BEGIN:VCALENDAR
VERSION:2.0
PRODID:-//Kartazoon//NONSGML kigkonsult.se iCalcreator 2.41.92//
CALSCALE:GREGORIAN
METHOD:PUBLISH
UID:63356266-3130-4861-b135-306262666433
X-WR-CALNAME:iCagenda
X-WR-CALDESC:Event Management Extension for Joomla!
X-WR-RELCALID:3E26604A-50F4-4449-8B3E-E4F4932D05B5
X-WR-TIMEZONE:UTC
BEGIN:VTIMEZONE
TZID:UTC
END:VTIMEZONE
BEGIN:VEVENT
UID:63666531-3635-4134-b333-346430356461
DTSTAMP:20260423T093148Z
CATEGORIES:In Kollaboration mit ...
CLASS:PUBLIC
DESCRIPTION;ALTREP="CID:<FFFF__=0ABBE548DFE235B58f9e8a93d@coffeebean.com>":
 Hier geht's zum Anmeldeformular\n&nbsp\;
DTSTART:20170513T150000Z
DTEND:20170513T220000Z
GEO:+47.395519;+8.598752
LOCATION:Club Dampf
ORGANIZER:
SEQUENCE:1
SUMMARY:Beer-Pong_7
TRANSP:OPAQUE
URL:https://www.kartazoon.ch/events/events-archiv/48-beer-pong-7
END:VEVENT
END:VCALENDAR
