BEGIN:VCALENDAR
VERSION:2.0
PRODID:-//Kartazoon//NONSGML kigkonsult.se iCalcreator 2.41.92//
CALSCALE:GREGORIAN
METHOD:PUBLISH
UID:38636435-6338-4136-b132-373139316366
X-WR-CALNAME:iCagenda
X-WR-CALDESC:Event Management Extension for Joomla!
X-WR-RELCALID:3E26604A-50F4-4449-8B3E-E4F4932D05B5
X-WR-TIMEZONE:UTC
BEGIN:VTIMEZONE
TZID:UTC
END:VTIMEZONE
BEGIN:VEVENT
UID:64656537-6438-4837-b366-623538336534
DTSTAMP:20260421T171403Z
CATEGORIES:Kartazoon Mitglieder
CLASS:PUBLIC
DESCRIPTION;ALTREP="CID:<FFFF__=0ABBE548DFE235B58f9e8a93d@coffeebean.com>":
 From past to future / Progressive-edition \nDiese Partyreihe soll eine Mis
 chung aus dem sowohl sehr groovigen progressive der 90er Jahre bis hin zu 
 den aktuellsten Tracks werden. Ein jeder Act hat die Aufgabe das Publikum 
 auf eine Reise mitzunehmen. Eine Reise die jeweils in der Gegenwart endet.
  Damit wir alle gemeinsam die Zukunft wieder besser gestalten können.\n&nb
 sp\;\nWie es den meisten von Euch wahrscheinlich bewusst ist\, Leben wir i
 n einer zu schnell lebigen Zeit. Man kann sich durch zu viele Pendenzen se
 hr schnell in der Vergangenheit\, als auch in der Zukunft\, durch das stet
 ige Verplant sein\, verlieren.\n&nbsp\;\nWie sagt man doch so schön: 'Die 
 Hoffnung stirbt zuletzt'\n&nbsp\;\n&nbsp\;\nMusic-styles:\nProgressive\n&n
 bsp\;\nLine-up:\n\n\n22.00 - 24.00 Art of Etienne (OM Club Switzerland)\n2
 4.00 - 02.00 Vanja meets RafFX (Kartazoon)\n02.00 - 04.00 Gregg (Mondmilch
 )\n04.00 - 07.00 Jasmin &amp\; Creator ( Interzone &amp\; TesseracT )\n07.
 00 - open end Djs from the night\n\n\n\nDer Einlass gilt nur für Members. 
 Jeder Gast muss mindestens eine Tagesmitgliedschaft (Kostenpunkt: CHF15) b
 eantragen! Die Location befindet sich im Otto Rupf-Gebäude - Eingang bei d
 er Tiefgarage. Zu Fuss ca. 4 Minuten vom Bahnhof Stettbach entfernt. Reich
 lich Parkplätze um das Gebäude sind vorhanden.\nHier geht's zum Memberantr
 ag
DTSTART:20170527T220000Z
DTEND:20170527T220000Z
GEO:+47.395519;+8.598752
LOCATION:Club Dampf
ORGANIZER:
SEQUENCE:1
SUMMARY:From past to future
TRANSP:OPAQUE
URL:https://www.kartazoon.ch/events/events-archiv/47-From%20past%20to%20fut
 ure
END:VEVENT
END:VCALENDAR
