BEGIN:VCALENDAR
VERSION:2.0
PRODID:-//Kartazoon//NONSGML kigkonsult.se iCalcreator 2.41.92//
CALSCALE:GREGORIAN
METHOD:PUBLISH
UID:66636136-3965-4464-b235-303035383639
X-WR-CALNAME:iCagenda
X-WR-CALDESC:Event Management Extension for Joomla!
X-WR-RELCALID:3E26604A-50F4-4449-8B3E-E4F4932D05B5
X-WR-TIMEZONE:UTC
BEGIN:VTIMEZONE
TZID:UTC
END:VTIMEZONE
BEGIN:VEVENT
UID:33306562-3331-4261-a637-656266303039
DTSTAMP:20260421T170556Z
CATEGORIES:Kartazoon Mitglieder
CLASS:PUBLIC
DESCRIPTION;ALTREP="CID:<FFFF__=0ABBE548DFE235B58f9e8a93d@coffeebean.com>":
 MARCEL’S 40TH BDAY BASH !! \n\n21.00 - 23.00 apero - nur für geladene Gäst
 e\n23.00 - 06.00 Tanzen\, Lachen und Geniessen unter Freunden\n\n&nbsp\;\n
 Music-styles:\nsimple\n&nbsp\;\nLine-up:\nNOISE PURE SIMPLE SOLAYA VANJA\n
 Der Einlass gilt nur für Members. Jeder Gast muss mindestens eine Tagesmit
 gliedschaft (Kostenpunkt: CHF10) beantragen! Die Location befindet sich im
  Otto Rupf-Gebäude - Eingang bei der Tiefgarage. Zu Fuss ca. 4 Minuten vom
  Bahnhof Stettbach entfernt. Reichlich Parkplätze um das Gebäude sind vorh
 anden.\nHier geht's zum Memberantrag
DTSTART:20170428T230000Z
DTEND:20170429T060000Z
GEO:+47.395519;+8.598752
LOCATION:Club Dampf
ORGANIZER:
SEQUENCE:1
SUMMARY:MARCEL’S 40TH BDAY BASH !!
TRANSP:OPAQUE
URL:https://www.kartazoon.ch/events/events-archiv/46-MARCEL%E2%80%99S%2040T
 H%20BDAY%20BASH%20!!
END:VEVENT
END:VCALENDAR
