BEGIN:VCALENDAR
VERSION:2.0
PRODID:-//Kartazoon//NONSGML kigkonsult.se iCalcreator 2.41.92//
CALSCALE:GREGORIAN
METHOD:PUBLISH
UID:36323239-6431-4932-b138-353033656364
X-WR-CALNAME:iCagenda
X-WR-CALDESC:Event Management Extension for Joomla!
X-WR-RELCALID:3E26604A-50F4-4449-8B3E-E4F4932D05B5
X-WR-TIMEZONE:UTC
BEGIN:VTIMEZONE
TZID:UTC
END:VTIMEZONE
BEGIN:VEVENT
UID:37643133-3037-4964-b064-346338653834
DTSTAMP:20260421T171404Z
CATEGORIES:Kartazoon Mitglieder
CLASS:PUBLIC
DESCRIPTION;ALTREP="CID:<FFFF__=0ABBE548DFE235B58f9e8a93d@coffeebean.com>":
 Legendär\n B-Day Bash - Die mit de Lüchtstäbli\n&nbsp\;\nGerne wollen wir 
 mit euch darauf Anstossen.&nbsp\;\n&nbsp\;\n21.00 - 22.30 apero - nur für 
 geladene Gäste\n22.30 - 08.00 Tanzen\, Lachen und Geniessen unter Freunden
  von Freunden\n&nbsp\;\nMusic-styles:\nProgressive\, Trance\n&nbsp\;\nLine
 -up:\nWarm-up by miss Daemona\nAerow\nAnyken\nNow-Here\nNassiria\nUpspace
 \nVanja\n\nDer Einlass gilt nur für Members. Jeder Gast muss mindestens ei
 ne Tagesmitgliedschaft (Kostenpunkt: CHF15) beantragen! Die Location befin
 det sich im Otto Rupf-Gebäude - Eingang bei der Tiefgarage. Zu Fuss ca. 4 
 Minuten vom Bahnhof Stettbach entfernt. Reichlich Parkplätze um das Gebäud
 e sind vorhanden.\nHier geht's zum Memberantrag
DTSTART:20170430T223000Z
DTEND:20170501T080000Z
GEO:+47.395519;+8.598752
LOCATION:Club Dampf
ORGANIZER:
SEQUENCE:1
SUMMARY:Legendär - Birthday-Bash
TRANSP:OPAQUE
URL:https://www.kartazoon.ch/events/events-archiv/45-Legend%C3%A4r%20-%20Bi
 rthday-Bash
END:VEVENT
END:VCALENDAR
