BEGIN:VCALENDAR
VERSION:2.0
PRODID:-//Kartazoon//NONSGML kigkonsult.se iCalcreator 2.41.92//
CALSCALE:GREGORIAN
METHOD:PUBLISH
UID:34646637-6636-4338-b637-303061653430
X-WR-CALNAME:iCagenda
X-WR-CALDESC:Event Management Extension for Joomla!
X-WR-RELCALID:3E26604A-50F4-4449-8B3E-E4F4932D05B5
X-WR-TIMEZONE:UTC
BEGIN:VTIMEZONE
TZID:UTC
END:VTIMEZONE
BEGIN:VEVENT
UID:31666361-6534-4865-b063-313933663365
DTSTAMP:20260421T175246Z
CATEGORIES:In Kollaboration mit ...
CLASS:PUBLIC
DESCRIPTION;ALTREP="CID:<FFFF__=0ABBE548DFE235B58f9e8a93d@coffeebean.com>":
 We love the new trance\n&nbsp\;\nIn Zusammenarbeit mit strohhalmRR\n&nbsp\
 ;\nEs muss nicht immer Remember sein - es ist höchste Zeit dem zeitnahen T
 rance mehr Aufmerksamkeit zu widmen.\n&nbsp\;\nMusic-styles:\nNew-Trance\n
 &nbsp\;\nLine-up:\nDream Maker\nSonoro\nDave-Z\nGemix\nR-Tec\nAerow\nDer E
 inlass gilt nur für Members. Jeder Gast muss mindestens eine Tagesmitglied
 schaft (Kostenpunkt: CHF15) beantragen! Die Location befindet sich im Otto
  Rupf-Gebäude - Eingang bei der Tiefgarage. Zu Fuss ca. 4 Minuten vom Bahn
 hof Stettbach entfernt. Reichlich Parkplätze um das Gebäude sind vorhanden
 .\nHier geht's zum Memberantrag\n&nbsp\;
DTSTART:20170902T220000Z
DTEND:20170902T220000Z
GEO:+47.395519;+8.598752
LOCATION:Club Dampf
ORGANIZER:
SEQUENCE:1
SUMMARY:We love the new trance
TRANSP:OPAQUE
URL:https://www.kartazoon.ch/events/events-archiv/43-we%20love%20the%20new%
 20trance-4
END:VEVENT
END:VCALENDAR
