BEGIN:VCALENDAR
VERSION:2.0
PRODID:-//Kartazoon//NONSGML kigkonsult.se iCalcreator 2.41.92//
CALSCALE:GREGORIAN
METHOD:PUBLISH
UID:64323434-3661-4162-b462-666366643933
X-WR-CALNAME:iCagenda
X-WR-CALDESC:Event Management Extension for Joomla!
X-WR-RELCALID:3E26604A-50F4-4449-8B3E-E4F4932D05B5
X-WR-TIMEZONE:UTC
BEGIN:VTIMEZONE
TZID:UTC
END:VTIMEZONE
BEGIN:VEVENT
UID:34666465-6539-4363-a535-313736373737
DTSTAMP:20260421T170518Z
CATEGORIES:In Kollaboration mit ...
CLASS:PUBLIC
DESCRIPTION;ALTREP="CID:<FFFF__=0ABBE548DFE235B58f9e8a93d@coffeebean.com>":
 We love the new trance\n&nbsp\;\nIn Zusammenarbeit mit strohhalmRR\n&nbsp\
 ;\nEs muss nicht immer Remember sein - es ist höchste Zeit dem zeitnahen T
 rance mehr Aufmerksamkeit zu widmen.\n&nbsp\;\nMusic-styles:\nNew-Trance\n
 &nbsp\;\nLine-up WLNT: 22.00 - 05.00\nBodo Kaiser\n Dave-Z\n Gemix \nSigma
 \n Serjoe \nMagic Mellow\n&nbsp\;\nAfterhours / Progressive: 05.00 - 12.00
 \nAngy Dee\n Vanja\n Progenix \nUpspace\nDer Einlass gilt nur für Members.
  Jeder Gast muss mindestens eine Tagesmitgliedschaft (Kostenpunkt: CHF15) 
 beantragen! Die Location befindet sich im Otto Rupf-Gebäude - Eingang bei 
 der Tiefgarage. Zu Fuss ca. 4 Minuten vom Bahnhof Stettbach entfernt. Reic
 hlich Parkplätze um das Gebäude sind vorhanden.\nHier geht's zum Memberant
 rag\n&nbsp\;
DTSTART:20170603T220000Z
DTEND:20170604T120000Z
GEO:+47.395519;+8.598752
LOCATION:Club Dampf
ORGANIZER:
SEQUENCE:1
SUMMARY:We love the new trance
TRANSP:OPAQUE
URL:https://www.kartazoon.ch/events/events-archiv/42-we%20love%20the%20new%
 20trance-3
END:VEVENT
END:VCALENDAR
