BEGIN:VCALENDAR
VERSION:2.0
PRODID:-//Kartazoon//NONSGML kigkonsult.se iCalcreator 2.41.92//
CALSCALE:GREGORIAN
METHOD:PUBLISH
UID:63386334-3631-4165-b261-303865376639
X-WR-CALNAME:iCagenda
X-WR-CALDESC:Event Management Extension for Joomla!
X-WR-RELCALID:3E26604A-50F4-4449-8B3E-E4F4932D05B5
X-WR-TIMEZONE:UTC
BEGIN:VTIMEZONE
TZID:UTC
END:VTIMEZONE
BEGIN:VEVENT
UID:65323834-3163-4361-b837-323563653364
DTSTAMP:20260421T170829Z
CATEGORIES:In Kollaboration mit ...
CLASS:PUBLIC
DESCRIPTION;ALTREP="CID:<FFFF__=0ABBE548DFE235B58f9e8a93d@coffeebean.com>":
 We love the new trance\n&nbsp\;\nIn Zusammenarbeit mit strohhalmRR\n&nbsp\
 ;\nEs muss nicht immer Remember sein - es ist höchste Zeit dem zeitnahen T
 rance mehr Aufmerksamkeit zu widmen.\n&nbsp\;\nMusic-styles:\nNew-Trance\n
 &nbsp\;\nLine-up:\nAnyken\nDready-2 aka Cornflakes 3D\nDave-Z\nMindart\nMa
 gic Bonzai\nMedusa Gold\nPosydon Blaze\n&nbsp\;\nDer Einlass gilt nur für 
 Members. Jeder Gast muss mindestens eine Tagesmitgliedschaft (Kostenpunkt:
  CHF15) beantragen! Die Location befindet sich im Otto Rupf-Gebäude - Eing
 ang bei der Tiefgarage. Zu Fuss ca. 4 Minuten vom Bahnhof Stettbach entfer
 nt. Reichlich Parkplätze um das Gebäude sind vorhanden.\nHier geht's zum M
 emberantrag
DTSTART:20170408T220000Z
DTEND:20170408T220000Z
GEO:+47.395519;+8.598752
LOCATION:Club Dampf
ORGANIZER:
SEQUENCE:1
SUMMARY:We love the new trance
TRANSP:OPAQUE
URL:https://www.kartazoon.ch/events/events-archiv/41-we%20love%20the%20new%
 20trance-2
END:VEVENT
END:VCALENDAR
