BEGIN:VCALENDAR
VERSION:2.0
PRODID:-//Kartazoon//NONSGML kigkonsult.se iCalcreator 2.41.92//
CALSCALE:GREGORIAN
METHOD:PUBLISH
UID:36363730-6666-4733-b836-353162626566
X-WR-CALNAME:iCagenda
X-WR-CALDESC:Event Management Extension for Joomla!
X-WR-RELCALID:3E26604A-50F4-4449-8B3E-E4F4932D05B5
X-WR-TIMEZONE:UTC
BEGIN:VTIMEZONE
TZID:UTC
END:VTIMEZONE
BEGIN:VEVENT
UID:66386437-3232-4537-a665-373064343032
DTSTAMP:20260421T171344Z
CATEGORIES:Kartazoon Mitglieder
CLASS:PUBLIC
DESCRIPTION;ALTREP="CID:<FFFF__=0ABBE548DFE235B58f9e8a93d@coffeebean.com>":
 Ramona's B-Day Bash\nGerne wollen wir mit euch darauf Anstossen.&nbsp\;\n&
 nbsp\;\n\nSpecials:&nbsp\;\nDresscode (white) &amp\; UV Deko\n\n&nbsp\;\nM
 usic-styles:\nvariants of Trance 1996 - 2016\n&nbsp\;\nLine-up:\nMadwave\n
 Nonsdrome\nGhost\nJoshua\nSubstance\nAerow\nVanja\nRaf FX\nCosmic Fly\n\nD
 er Einlass gilt nur für Members. Jeder Gast muss mindestens eine Tagesmitg
 liedschaft (Kostenpunkt: CHF15) beantragen! Die Location befindet sich im 
 Otto Rupf-Gebäude - Eingang bei der Tiefgarage. Zu Fuss ca. 4 Minuten vom 
 Bahnhof Stettbach entfernt. Reichlich Parkplätze um das Gebäude sind vorha
 nden.\nHier geht's zum Memberantrag
DTSTART:20170311T230000Z
DTEND:20170312T100000Z
GEO:+47.395519;+8.598752
LOCATION:Club Dampf
ORGANIZER:
SEQUENCE:1
SUMMARY:Ramona's Birthday Rave
TRANSP:OPAQUE
URL:https://www.kartazoon.ch/events/events-archiv/40-Ramona%27s%20Birthday%
 20Rave
END:VEVENT
END:VCALENDAR
