BEGIN:VCALENDAR
VERSION:2.0
PRODID:-//Kartazoon//NONSGML kigkonsult.se iCalcreator 2.41.92//
CALSCALE:GREGORIAN
METHOD:PUBLISH
UID:39623238-3763-4636-b437-653266653166
X-WR-CALNAME:iCagenda
X-WR-CALDESC:Event Management Extension for Joomla!
X-WR-RELCALID:3E26604A-50F4-4449-8B3E-E4F4932D05B5
X-WR-TIMEZONE:UTC
BEGIN:VTIMEZONE
TZID:UTC
END:VTIMEZONE
BEGIN:VEVENT
UID:65323762-3532-4164-b562-666130653234
DTSTAMP:20260421T165744Z
CATEGORIES:In Kollaboration mit ...
CLASS:PUBLIC
DESCRIPTION;ALTREP="CID:<FFFF__=0ABBE548DFE235B58f9e8a93d@coffeebean.com>":
 10 Years Electro Radio B-Day Bash\nIn Zusammenarbeit mit Akustik Produkt &
 amp\; Electroradio.fm\nall about electromusic / 24h nonStop Live Session\n
 Music-styles:\nDeep- / Tech- / Electro- / Minimal / ...-Techno\n&nbsp\;\nL
 ine-up:\nSilvan SalzmannIvane Rom Corsik Diego Suarez Dj Padini Nikolaz To
 m Bols Fery Luca Barth Vanja Andialbundy Proscript De la Porter Aaron Khal
 eian Wellenreiter Roger Burns \nDer Einlass gilt nur für Members von Karta
 zoon oder Akustik Produkt. Jeder Gast muss mindestens eine Tagesmitgliedsc
 haft (Kostenpunkt: CHF15) beantragen! Die Location befindet sich im Otto R
 upf-Gebäude - Eingang bei der Tiefgarage. Zu Fuss ca. 4 Minuten vom Bahnho
 f Stettbach entfernt. Reichlich Parkplätze um das Gebäude sind vorhanden.
 \nHier geht's zum Memberantrag
DTSTART:20170325T120000Z
DTEND:20170326T120000Z
GEO:+47.395519;+8.598752
LOCATION:Club Dampf
ORGANIZER:
SEQUENCE:1
SUMMARY:10 Years Electro Radio B-Day Bash
TRANSP:OPAQUE
URL:https://www.kartazoon.ch/events/events-archiv/39-10%20Years%20Electro%2
 0Radio%20B-Day%20Bash
END:VEVENT
END:VCALENDAR
