BEGIN:VCALENDAR
VERSION:2.0
PRODID:-//Kartazoon//NONSGML kigkonsult.se iCalcreator 2.41.92//
CALSCALE:GREGORIAN
METHOD:PUBLISH
UID:35353131-6162-4131-b730-356165353562
X-WR-CALNAME:iCagenda
X-WR-CALDESC:Event Management Extension for Joomla!
X-WR-RELCALID:3E26604A-50F4-4449-8B3E-E4F4932D05B5
X-WR-TIMEZONE:UTC
BEGIN:VTIMEZONE
TZID:UTC
END:VTIMEZONE
BEGIN:VEVENT
UID:38636666-3930-4538-a630-626561333538
DTSTAMP:20260421T170902Z
CATEGORIES:In Kollaboration mit ...
CLASS:PUBLIC
DESCRIPTION;ALTREP="CID:<FFFF__=0ABBE548DFE235B58f9e8a93d@coffeebean.com>":
 We love the new trance\n&nbsp\;\nIn Zusammenarbeit mit strohhalmRR\n&nbsp\
 ;\nEs muss nicht immer Remember sein - es ist höchste Zeit dem zeitnahen T
 rance mehr Aufmerksamkeit zu widmen.\n&nbsp\;\nMusic-styles:\nNew-Trance\n
 &nbsp\;\nLine-up:\nTatana\nDave-Z\nAerow\nR-Tec\nGemix\nSerjoe\n&nbsp\;\nD
 er Einlass gilt nur für Members. Jeder Gast muss mindestens eine Tagesmitg
 liedschaft (Kostenpunkt: CHF15) beantragen! Die Location befindet sich im 
 Otto Rupf-Gebäude - Eingang bei der Tiefgarage. Zu Fuss ca. 4 Minuten vom 
 Bahnhof Stettbach entfernt. Reichlich Parkplätze um das Gebäude sind vorha
 nden.\nHier geht's zum Memberantrag\n&nbsp\;\n&nbsp\;
DTSTART:20170211T220000Z
DTEND:20170211T220000Z
GEO:+47.395519;+8.598752
LOCATION:Club Dampf
ORGANIZER:
SEQUENCE:1
SUMMARY:We love the new trance
TRANSP:OPAQUE
URL:https://www.kartazoon.ch/events/events-archiv/37-we%20love%20the%20new%
 20trance
END:VEVENT
END:VCALENDAR
