BEGIN:VCALENDAR
VERSION:2.0
PRODID:-//Kartazoon//NONSGML kigkonsult.se iCalcreator 2.41.92//
CALSCALE:GREGORIAN
METHOD:PUBLISH
UID:38303933-3063-4731-a230-316633336461
X-WR-CALNAME:iCagenda
X-WR-CALDESC:Event Management Extension for Joomla!
X-WR-RELCALID:3E26604A-50F4-4449-8B3E-E4F4932D05B5
X-WR-TIMEZONE:UTC
BEGIN:VTIMEZONE
TZID:UTC
END:VTIMEZONE
BEGIN:VEVENT
UID:30626433-6436-4166-b236-383961343461
DTSTAMP:20260421T171058Z
CATEGORIES:In Kollaboration mit ...
CLASS:PUBLIC
DESCRIPTION;ALTREP="CID:<FFFF__=0ABBE548DFE235B58f9e8a93d@coffeebean.com>":
 Gerne möchten wir dich Einladen den diesjährigen Neujahrswechsel zusammen 
 mit uns in privater Atmosphäre zu verbringen. In unserem gemütlichen Lokal
 \, der Vereine Akustik-Produkt und Kartazoon-Gallery\, werden wir den dies
 jährigen Silvester bereits zum dritten Mal zelebrieren können.\n&nbsp\;\nM
 usic-styles:\nProgressiv / Techno&nbsp\;\n&nbsp\;\nLine-up:\nMiss Prestige
 \nL.u.z.i.\nLuca Barth\nSnailbob\nAndialbundy\nVanja\nGregg\nDanny white\n
 Der Einlass gilt nur für Members von Kartazoon oder Akustik-Produkt. Die L
 ocation befindet sich im Otto Rupf-Gebäude - Eingang bei der Tiefgarage. Z
 u Fuss ca. 4 Minuten vom Bahnhof Stettbach entfernt. Reichlich Parkplätze 
 um das Gebäude vorhanden.\nDie Macher\, Djs und Helfer freuen sich auf ein
 e ausgelassene Silvesterfeier und wünschen dir auf diesem Weg ein angenehm
 es Ausklingen des Jahres 2016.\nHier geht's zum&nbsp\;Memberantrag
DTSTART:20161231T220000Z
DTEND:20170101T080000Z
GEO:+47.395519;+8.598752
LOCATION:Club Dampf
ORGANIZER:
SEQUENCE:1
SUMMARY:Krawumm
TRANSP:OPAQUE
URL:https://www.kartazoon.ch/events/events-archiv/35-Krawumm
END:VEVENT
END:VCALENDAR
